BEGIN:VCALENDAR
PRODID:NingEventWidget-v1
VERSION:2.0
METHOD:PUBLISH
BEGIN:VTIMEZONE
TZID:America/Chicago
X-LIC-LOCATION:America/Chicago
BEGIN:DAYLIGHT
TZOFFSETFROM:-0600
TZOFFSETTO:-0500
TZNAME:CDT
DTSTART:19700308T020000
RRULE:FREQ=YEARLY;BYMONTH=3;BYDAY=2SU
END:DAYLIGHT
BEGIN:STANDARD
TZOFFSETFROM:-0500
TZOFFSETTO:-0600
TZNAME:CST
DTSTART:19701101T020000
RRULE:FREQ=YEARLY;BYMONTH=11;BYDAY=1SU
END:STANDARD
END:VTIMEZONE
BEGIN:VEVENT
UID:3181080:Event:1534370
DTSTAMP:20260422T200511Z
SUMMARY:CASE EVENT Zippo/Case Museum  **  PA
DESCRIPTION:Bradford, Pennsylvania is home to not just to Zippo lighte
 rs and Case knives, but also to a commitment to the craft and quality 
 synonymous with \"Made in America.\" We invite you to visit the Zippo
 /Case Museum, where fans and collectors from across the globe gather t
 o experience the rich history of these two American icons. \r\nCome e
 xplore the 15,000 square foot attraction that includes the world famou
 s Zippo repair Clinic and Zippo/Case flagship store. Fourteen custom-m
 ade Zippo street lighters line the drive leading up to the building. 
 Over the entrance towers a 40-foot Zippo lighter with pulsating neon f
 lame and an enormous Case Canoe three-blade pocket knife. Enjoy a se
 lf-guided tour to learn the rich history of two American icons. \n\nF
 or more information visit https://iknifecollector.com/events/case-even
 t-zippo-case-museum-pa
DTSTART;TZID=America/Chicago:20180721T090000
DTEND;TZID=America/Chicago:20180721T160000
CATEGORIES:case, event
LOCATION:Zippo/Case Museum
WEBSITE:https://www.zippo.com/pages/zippo-case-museums
URL:https://www.zippo.com/pages/zippo-case-museums
CONTACT:814-368-1932
ORGANIZER;CN="Jan Carter":https://iknifecollector.com/profile/JanCarte
 r
ATTACH;FMTTYPE="image/jpeg":http://storage.ning.com/topology/rest/1.0/
 file/get/2648155088?profile=original
ATTENDEE;ROLE=REQ-PARTICIPANT;PARTSTAT=TENTATIVE;RSVP=TRUE;CN="Andy La
 rrison":https://iknifecollector.com/profile/AndyLarrison
END:VEVENT
END:VCALENDAR
