BEGIN:VCALENDAR
PRODID:NingEventWidget-v1
VERSION:2.0
METHOD:PUBLISH
BEGIN:VTIMEZONE
TZID:America/Chicago
X-LIC-LOCATION:America/Chicago
BEGIN:DAYLIGHT
TZOFFSETFROM:-0600
TZOFFSETTO:-0500
TZNAME:CDT
DTSTART:19700308T020000
RRULE:FREQ=YEARLY;BYMONTH=3;BYDAY=2SU
END:DAYLIGHT
BEGIN:STANDARD
TZOFFSETFROM:-0500
TZOFFSETTO:-0600
TZNAME:CST
DTSTART:19701101T020000
RRULE:FREQ=YEARLY;BYMONTH=11;BYDAY=1SU
END:STANDARD
END:VTIMEZONE
BEGIN:VEVENT
UID:3181080:Event:1316377
DTSTAMP:20260424T204759Z
SUMMARY:CASE KNIFE ESTATE AUCTION
DESCRIPTION:Over 325 Case XX pocket knives includes #6111 ½ Little Va
 lley New York, (2) #5254 XX Red Stag Trappers, #5391 Red Stag Big Whit
 tlers, #5220 XX Red Stag Peanut, several #52131 XX Canoes, #5394 XX Bi
 g Gunboat, #5383 XX Stag Whittlers, #5375 XX Big Stockman, several #52
 20 XX Stag Peanuts, #5165 XX Folding Hunters, #5172 XX Bulldog, severa
 l #5488 XX Big Congress, #5234 XX Long Pull Doctor’s knife, #8368 XX
  Pearl Congress Whittler, #52131 XX Red Stag Canoe, #5332 XX Stag Stoc
 kman and many others. See www.auctionzip.com for catalog listing by 
 May 11th.\n\nFor more information visit https://iknifecollector.com/ev
 ents/case-knife-estate-auction
DTSTART;TZID=America/Chicago:20150517T120000
DTEND;TZID=America/Chicago:20150517T190000
CATEGORIES:case, knife, estate, auction
LOCATION:Judi’s Catering Banquet Hall
WEBSITE:http://www.auctionzip.com/Listings/2445655.html
URL:http://www.auctionzip.com/Listings/2445655.html
CONTACT:765-449-4515
ORGANIZER;CN="Jan Carter":https://iknifecollector.com/profile/JanCarte
 r
ATTACH;FMTTYPE="image/jpeg":http://storage.ning.com/topology/rest/1.0/
 file/get/2831510773?profile=original
END:VEVENT
END:VCALENDAR
