BEGIN:VCALENDAR
PRODID:NingEventWidget-v1
VERSION:2.0
METHOD:PUBLISH
BEGIN:VTIMEZONE
TZID:America/Chicago
X-LIC-LOCATION:America/Chicago
BEGIN:DAYLIGHT
TZOFFSETFROM:-0600
TZOFFSETTO:-0500
TZNAME:CDT
DTSTART:19700308T020000
RRULE:FREQ=YEARLY;BYMONTH=3;BYDAY=2SU
END:DAYLIGHT
BEGIN:STANDARD
TZOFFSETFROM:-0500
TZOFFSETTO:-0600
TZNAME:CST
DTSTART:19701101T020000
RRULE:FREQ=YEARLY;BYMONTH=11;BYDAY=1SU
END:STANDARD
END:VTIMEZONE
BEGIN:VEVENT
UID:3181080:Event:1403330
DTSTAMP:20260424T072838Z
SUMMARY:Case sponsored event featuring Ida Reid and Tony Bose
DESCRIPTION:Case sponsored event featuring Ida Reid and Tony Bose\n\nF
 or more information visit https://iknifecollector.com/events/case-spon
 sored-event-featuring-ida-reid-and-tony-bose
DTSTART;TZID=America/Chicago:20160507T000000
DTEND;TZID=America/Chicago:20160507T235900
CATEGORIES:case, event
LOCATION:Shepherd Hills Cutlery
WEBSITE:http://www.wrcase.com/happenings/events/
URL:http://www.wrcase.com/happenings/events/
CONTACT:800-727-4643
ORGANIZER;CN="Jan Carter":https://iknifecollector.com/profile/JanCarte
 r
ATTACH;FMTTYPE="image/jpeg":http://storage.ning.com/topology/rest/1.0/
 file/get/2648155088?profile=original
ATTENDEE;ROLE=REQ-PARTICIPANT;PARTSTAT=ACCEPTED;RSVP=TRUE;CN="steven p
 atterson":https://iknifecollector.com/profile/stevenpatterson
END:VEVENT
END:VCALENDAR
