BEGIN:VCALENDAR
PRODID:NingEventWidget-v1
VERSION:2.0
METHOD:PUBLISH
BEGIN:VTIMEZONE
TZID:America/Chicago
X-LIC-LOCATION:America/Chicago
BEGIN:DAYLIGHT
TZOFFSETFROM:-0600
TZOFFSETTO:-0500
TZNAME:CDT
DTSTART:19700308T020000
RRULE:FREQ=YEARLY;BYMONTH=3;BYDAY=2SU
END:DAYLIGHT
BEGIN:STANDARD
TZOFFSETFROM:-0500
TZOFFSETTO:-0600
TZNAME:CST
DTSTART:19701101T020000
RRULE:FREQ=YEARLY;BYMONTH=11;BYDAY=1SU
END:STANDARD
END:VTIMEZONE
BEGIN:VEVENT
UID:3181080:Event:838484
DTSTAMP:20260422T154418Z
SUMMARY:CASE  Tony Bose/Ida Reid Tour
DESCRIPTION:with Special Guest: Alex Rutledge, Bloodline Outdoors TV\n
 \nYou just can’t “not have fun” at the Tony Bose/Ida Reid Tour. 
 There’ll be great stories, great specials, and a great limited editi
 on event knife---the Bose/Reid Tour Trapper, shown above. We got the p
 rototype in, and we think it’s arguably the best Bose/Reid knife eve
 r. Beautifully done in the smooth chestnut on the Bose side, smooth na
 tural bone on the Reid side, it’d be a beauty if we just stopped the
 re. But, this knife is embellished with * the laser engraved autograp
 hs of Tony Bose and Ida Reid * special engraving on the bolster * Sh
 epherd Hills Tour 2013 etch on the blade* and the signature Tony Bose 
 shield\nLimited to only 100 pieces, you must be in attendance to be as
 sured of getting one of these Case knives, but we are taking reservati
 ons now.$ 79.99 each, limit one per person. Click here to reserve.\nI
 f you have questions about any or all of these events, please don’t 
 hesitate to call: 1.800.727.4643.\n\nFor more information visit https:
 //iknifecollector.com/events/case-tony-bose-ida-reid-tour
DTSTART;TZID=America/Chicago:20130518T000000
DTEND;TZID=America/Chicago:20130518T235900
CATEGORIES:case, tony, bose, tour
LOCATION:Shepherd Hills
WEBSITE:http://www.casexx.com/News/
URL:http://www.casexx.com/News/
CONTACT:
ORGANIZER;CN="Jan Carter":https://iknifecollector.com/profile/JanCarte
 r
ATTACH;FMTTYPE="image/jpeg":
ATTENDEE;ROLE=REQ-PARTICIPANT;PARTSTAT=ACCEPTED;RSVP=TRUE;CN="Jan Cart
 er":https://iknifecollector.com/profile/JanCarter
END:VEVENT
END:VCALENDAR
