BEGIN:VCALENDAR
PRODID:NingEventWidget-v1
VERSION:2.0
METHOD:PUBLISH
BEGIN:VTIMEZONE
TZID:America/Chicago
X-LIC-LOCATION:America/Chicago
BEGIN:DAYLIGHT
TZOFFSETFROM:-0600
TZOFFSETTO:-0500
TZNAME:CDT
DTSTART:19700308T020000
RRULE:FREQ=YEARLY;BYMONTH=3;BYDAY=2SU
END:DAYLIGHT
BEGIN:STANDARD
TZOFFSETFROM:-0500
TZOFFSETTO:-0600
TZNAME:CST
DTSTART:19701101T020000
RRULE:FREQ=YEARLY;BYMONTH=11;BYDAY=1SU
END:STANDARD
END:VTIMEZONE
BEGIN:VEVENT
UID:3181080:Event:34408
DTSTAMP:20260424T222217Z
SUMMARY:Case XX Artisans appearing at Buffalo Shoals Hardware in Newto
 n, NC
DESCRIPTION:\n\nMeet the artisans who make Case XX knives direct from 
 the Factory in Bradford, PA!\n\nFor more information visit https://ikn
 ifecollector.com/events/case-xx-artisans-appearing-at
DTSTART;TZID=America/Chicago:20090808T090000
DTEND;TZID=America/Chicago:20090808T130000
CATEGORIES:case, xx, artisans, tour, stop
LOCATION:Buffalo Shoals Hardware
WEBSITE:http://maps.google.com/maps?f=q&source=s_q&hl=en&geocode=&q=Bu
 ffalo+Shoals+Hardware,+Newton,+NC&sll=37.0625,-95.677068&sspn=31.09566
 8,56.162109&ie=UTF8&filter=0&update=1&ll=35.631628,-81.107254&spn=0.24
 8909,0.438766&z=11
URL:http://maps.google.com/maps?f=q&source=s_q&hl=en&geocode=&q=Buffal
 o+Shoals+Hardware,+Newton,+NC&sll=37.0625,-95.677068&sspn=31.095668,56
 .162109&ie=UTF8&filter=0&update=1&ll=35.631628,-81.107254&spn=0.248909
 ,0.438766&z=11
CONTACT:828-464-0817
ORGANIZER:W.R. Case & Sons Cutlery Company
ATTACH;FMTTYPE="image/jpeg":http://storage.ning.com/topology/rest/1.0/
 file/get/2831229169?profile=original
ATTENDEE;ROLE=REQ-PARTICIPANT;PARTSTAT=ACCEPTED;RSVP=TRUE;CN="Fred Fei
 ghtner":https://iknifecollector.com/profile/RussCase
END:VEVENT
END:VCALENDAR
