BEGIN:VCALENDAR
PRODID:NingEventWidget-v1
VERSION:2.0
METHOD:PUBLISH
BEGIN:VTIMEZONE
TZID:America/Chicago
X-LIC-LOCATION:America/Chicago
BEGIN:DAYLIGHT
TZOFFSETFROM:-0600
TZOFFSETTO:-0500
TZNAME:CDT
DTSTART:19700308T020000
RRULE:FREQ=YEARLY;BYMONTH=3;BYDAY=2SU
END:DAYLIGHT
BEGIN:STANDARD
TZOFFSETFROM:-0500
TZOFFSETTO:-0600
TZNAME:CST
DTSTART:19701101T020000
RRULE:FREQ=YEARLY;BYMONTH=11;BYDAY=1SU
END:STANDARD
END:VTIMEZONE
BEGIN:VEVENT
UID:3181080:Event:1316314
DTSTAMP:20260424T171838Z
SUMMARY:Case XX knife collection auction
DESCRIPTION:Case XX Knives- 1973 Case XX Stag Collector's Set Assortme
 nt #2. This stag set is 1 of 2,000 made during the 1970's Stag Embargo
 . This set includes 17 pocket knives & 5 hunting knives. 1977 Case XX 
 Blue Scroll Collector's set this set includes 8 pocket knives. 1978 Ca
 se XX Red Scroll Collector's set this set includes 7 pocket knives. Ch
 ristmas set, John Wayne, Coca-Cola, 5 Blade, Bowie, Sheath knives, (75
  plus new in boxes-Mini Pearl-Tooth Pick-Muskrat-Trapper-many others. 
 We have approx. 250 knives to sell. Folks this is a must see collectio
 n. GUNS- Colt Peace Maker 22 cal. both cylinders, Colt New Frontier Bu
 ntline 22 cal. both cylinders, S&W 38 revolver, Marlin 30 30 w.scope, 
 Brazil 12 ga. Single shot, Stevens Model 940 E 20 ga. Single shot, Sin
 gle shot 16 ga. Diamond Arms 410 Single shot\n\nFor more information v
 isit https://iknifecollector.com/events/case-xx-knife-collection-aucti
 on
DTSTART;TZID=America/Chicago:20150606T100000
DTEND;TZID=America/Chicago:20150606T190000
CATEGORIES:case, xx, knife, collection, auction
LOCATION:Melber Civic Center
WEBSITE:http://www.wilkersonauction.com/
URL:http://www.wilkersonauction.com/
CONTACT:
ORGANIZER;CN="Jan Carter":https://iknifecollector.com/profile/JanCarte
 r
ATTACH;FMTTYPE="image/jpeg":http://storage.ning.com/topology/rest/1.0/
 file/get/2831510773?profile=original
END:VEVENT
END:VCALENDAR
