BEGIN:VCALENDAR
PRODID:NingEventWidget-v1
VERSION:2.0
METHOD:PUBLISH
BEGIN:VTIMEZONE
TZID:America/Chicago
X-LIC-LOCATION:America/Chicago
BEGIN:DAYLIGHT
TZOFFSETFROM:-0600
TZOFFSETTO:-0500
TZNAME:CDT
DTSTART:19700308T020000
RRULE:FREQ=YEARLY;BYMONTH=3;BYDAY=2SU
END:DAYLIGHT
BEGIN:STANDARD
TZOFFSETFROM:-0500
TZOFFSETTO:-0600
TZNAME:CST
DTSTART:19701101T020000
RRULE:FREQ=YEARLY;BYMONTH=11;BYDAY=1SU
END:STANDARD
END:VTIMEZONE
BEGIN:VEVENT
UID:3181080:Event:110493
DTSTAMP:20260423T163651Z
SUMMARY:Central KY Knife Club Knife Show
DESCRIPTION:Club Annual Show. Will have 60 / 70 dealers.\nAugust 27, 2
 8 & 29. Holiday Inn North, just off I 75 in Lexington , KY. 6 Foot Tab
 les $70 each.\nContact Jim Thompson for table reservation & additional
  info. thomp@adelphia.net Phone 859-623-1419 or on cell at 859-338-180
 4.\nAug 27 - 12 PM-6PM, Aug 28 9AM-6PM\nAug 29 9AM-2PM\n\nFor more inf
 ormation visit https://iknifecollector.com/events/central-ky-knife-clu
 b-knife
DTSTART;TZID=America/Chicago:20100827T120000
DTEND;TZID=America/Chicago:20100829T090000
CATEGORIES:knife, show, buy, sell, "&", trade
LOCATION:Holiday Inn North
WEBSITE:
URL:
CONTACT:859-233-0512
ORGANIZER:Jim Thompson for Central Ky Knife Club
ATTACH;FMTTYPE="image/jpeg":
ATTENDEE;ROLE=REQ-PARTICIPANT;PARTSTAT=ACCEPTED;RSVP=TRUE;CN="Jim Wood
 s":https://iknifecollector.com/profile/JimWoods
ATTENDEE;ROLE=REQ-PARTICIPANT;PARTSTAT=ACCEPTED;RSVP=TRUE;CN="Roger Cu
 nningham":https://iknifecollector.com/profile/RogerCunningham
ATTENDEE;ROLE=REQ-PARTICIPANT;PARTSTAT=ACCEPTED;RSVP=TRUE;CN="Gary Ken
 nedy":https://iknifecollector.com/profile/GaryKennedy
ATTENDEE;ROLE=REQ-PARTICIPANT;PARTSTAT=ACCEPTED;RSVP=TRUE;CN="Jim Thom
 pson":https://iknifecollector.com/profile/JimThompson
END:VEVENT
END:VCALENDAR
