BEGIN:VCALENDAR
PRODID:NingEventWidget-v1
VERSION:2.0
METHOD:PUBLISH
BEGIN:VTIMEZONE
TZID:America/Chicago
X-LIC-LOCATION:America/Chicago
BEGIN:DAYLIGHT
TZOFFSETFROM:-0600
TZOFFSETTO:-0500
TZNAME:CDT
DTSTART:19700308T020000
RRULE:FREQ=YEARLY;BYMONTH=3;BYDAY=2SU
END:DAYLIGHT
BEGIN:STANDARD
TZOFFSETFROM:-0500
TZOFFSETTO:-0600
TZNAME:CST
DTSTART:19701101T020000
RRULE:FREQ=YEARLY;BYMONTH=11;BYDAY=1SU
END:STANDARD
END:VTIMEZONE
BEGIN:VEVENT
UID:3181080:Event:1038415
DTSTAMP:20260420T134914Z
SUMMARY:CENTRAL KY KNIFE CLUB SPRING KNIFE SHOW
DESCRIPTION: Clarion Hotel Convention Center; Lexington. KY\n859-233-
 0512; Just off I 75 @ exit 115\nMay 9, 10 & 11; Dealer Setup Friday 7:
 30 AM\nDealer Tables $80; Setup Friday 7:30 AM\nContact Jim Thompson; 
 859-623-1419; 859-338-1804;\nthomp@Adelphia.net for additional Info/Ta
 ble Availability; Show Hours ; Fri & Sat 9 AM-6 PM; Sunday 9 AM-2 PM\n
 \nFor more information visit https://iknifecollector.com/events/centra
 l-ky-knife-club-spring-knife-show
DTSTART;TZID=America/Chicago:20140509T090000
DTEND;TZID=America/Chicago:20140511T090000
CATEGORIES:dealer, outlet, to, public, buy, sell, trade
LOCATION:CLARION HOTEL
WEBSITE:http://www.clarionhotellex.com
URL:http://www.clarionhotellex.com
CONTACT:859-233-0512
ORGANIZER;CN="Jim Thompson":https://iknifecollector.com/profile/JimTho
 mpson
ATTACH;FMTTYPE="image/jpeg":
ATTENDEE;ROLE=REQ-PARTICIPANT;PARTSTAT=ACCEPTED;RSVP=TRUE;CN="Gina Sar
 gent Smith":https://iknifecollector.com/profile/GinaSargentSmith
ATTENDEE;ROLE=REQ-PARTICIPANT;PARTSTAT=ACCEPTED;RSVP=TRUE;CN="Adam Arc
 her":https://iknifecollector.com/profile/AdamArcher
ATTENDEE;ROLE=REQ-PARTICIPANT;PARTSTAT=ACCEPTED;RSVP=TRUE;CN="Charles 
 Reed":https://iknifecollector.com/profile/CharlesReed
ATTENDEE;ROLE=REQ-PARTICIPANT;PARTSTAT=ACCEPTED;RSVP=TRUE;CN="Ken Spie
 lvogel":https://iknifecollector.com/profile/KenSpielvogel
ATTENDEE;ROLE=REQ-PARTICIPANT;PARTSTAT=ACCEPTED;RSVP=TRUE;CN="Jim Thom
 pson":https://iknifecollector.com/profile/JimThompson
END:VEVENT
END:VCALENDAR
