BEGIN:VCALENDAR
PRODID:NingEventWidget-v1
VERSION:2.0
METHOD:PUBLISH
BEGIN:VTIMEZONE
TZID:America/Chicago
X-LIC-LOCATION:America/Chicago
BEGIN:DAYLIGHT
TZOFFSETFROM:-0600
TZOFFSETTO:-0500
TZNAME:CDT
DTSTART:19700308T020000
RRULE:FREQ=YEARLY;BYMONTH=3;BYDAY=2SU
END:DAYLIGHT
BEGIN:STANDARD
TZOFFSETFROM:-0500
TZOFFSETTO:-0600
TZNAME:CST
DTSTART:19701101T020000
RRULE:FREQ=YEARLY;BYMONTH=11;BYDAY=1SU
END:STANDARD
END:VTIMEZONE
BEGIN:VEVENT
UID:3181080:Event:966318
DTSTAMP:20260424T145211Z
SUMMARY:Chesapeake Knife Show
DESCRIPTION:World's Best One-Day knifeshow. 27th Year.\n\nFor more inf
 ormation visit https://iknifecollector.com/events/chesapeake-knife-sho
 w
DTSTART;TZID=America/Chicago:20131208T000000
DTEND;TZID=America/Chicago:20131208T235900
CATEGORIES:knife, show
LOCATION:Crown Plaza Timonium, md
WEBSITE:http://www.knifeshows.com/event/3
URL:http://www.knifeshows.com/event/3
CONTACT:
ORGANIZER;CN="Jan Carter":https://iknifecollector.com/profile/JanCarte
 r
ATTACH;FMTTYPE="image/jpeg":
ATTENDEE;ROLE=REQ-PARTICIPANT;PARTSTAT=ACCEPTED;RSVP=TRUE;CN="Jan Cart
 er":https://iknifecollector.com/profile/JanCarter
END:VEVENT
END:VCALENDAR
