BEGIN:VCALENDAR
PRODID:NingEventWidget-v1
VERSION:2.0
METHOD:PUBLISH
BEGIN:VTIMEZONE
TZID:America/Chicago
X-LIC-LOCATION:America/Chicago
BEGIN:DAYLIGHT
TZOFFSETFROM:-0600
TZOFFSETTO:-0500
TZNAME:CDT
DTSTART:19700308T020000
RRULE:FREQ=YEARLY;BYMONTH=3;BYDAY=2SU
END:DAYLIGHT
BEGIN:STANDARD
TZOFFSETFROM:-0500
TZOFFSETTO:-0600
TZNAME:CST
DTSTART:19701101T020000
RRULE:FREQ=YEARLY;BYMONTH=11;BYDAY=1SU
END:STANDARD
END:VTIMEZONE
BEGIN:VEVENT
UID:3181080:Event:1159790
DTSTAMP:20260420T235957Z
SUMMARY:Collectors West Gun and Knife Show
DESCRIPTION:Gun and Knife show\n\nFor more information visit https://i
 knifecollector.com/events/collectors-west-gun-and-knife-show
DTSTART;TZID=America/Chicago:20140725T000000
DTEND;TZID=America/Chicago:20140727T235900
CATEGORIES:gun, and, knife, show
LOCATION:PORTLAND, OR Expo Center
WEBSITE:http://www.collectorswest.com/Portals/CollectorsWest/docs/2014
 _calendar.pdf
URL:http://www.collectorswest.com/Portals/CollectorsWest/docs/2014_cal
 endar.pdf
CONTACT:
ORGANIZER;CN="Jan Carter":https://iknifecollector.com/profile/JanCarte
 r
ATTACH;FMTTYPE="image/jpeg":
ATTENDEE;ROLE=REQ-PARTICIPANT;PARTSTAT=ACCEPTED;RSVP=TRUE;CN="Jan Cart
 er":https://iknifecollector.com/profile/JanCarter
END:VEVENT
END:VCALENDAR
