BEGIN:VCALENDAR
PRODID:NingEventWidget-v1
VERSION:2.0
METHOD:PUBLISH
BEGIN:VTIMEZONE
TZID:America/Chicago
X-LIC-LOCATION:America/Chicago
BEGIN:DAYLIGHT
TZOFFSETFROM:-0600
TZOFFSETTO:-0500
TZNAME:CDT
DTSTART:19700308T020000
RRULE:FREQ=YEARLY;BYMONTH=3;BYDAY=2SU
END:DAYLIGHT
BEGIN:STANDARD
TZOFFSETFROM:-0500
TZOFFSETTO:-0600
TZNAME:CST
DTSTART:19701101T020000
RRULE:FREQ=YEARLY;BYMONTH=11;BYDAY=1SU
END:STANDARD
END:VTIMEZONE
BEGIN:VEVENT
UID:3181080:Event:1368428
DTSTAMP:20260423T222656Z
SUMMARY:COLT, WINCHESTER, RANDALL, LOVELESS, CUSTOM GUN & KNIFE AUCTIO
 N
DESCRIPTION:COLT, WINCHESTER, RANDALL, LOVELESS, CUSTOM GUN & KNIFE AU
 CTION\n\n\nFor more information visit https://iknifecollector.com/even
 ts/colt-winchester-randall-loveless-custom-gun-knife-auction
DTSTART;TZID=America/Chicago:20151128T183000
DTEND;TZID=America/Chicago:20151128T230000
CATEGORIES:"online/in", person, auction
LOCATION:Ridges of Mountain Harbour Sequoyah Room
WEBSITE:http://www.auctionzip.com/auction-catalog/COLT,-WINCHESTER,-RA
 NDALL,-LOVELESS,-CUSTOM-GUN-KNIFE-AUCTION_9ER6QAJ7C2/
URL:http://www.auctionzip.com/auction-catalog/COLT,-WINCHESTER,-RANDAL
 L,-LOVELESS,-CUSTOM-GUN-KNIFE-AUCTION_9ER6QAJ7C2/
CONTACT:
ORGANIZER;CN="Jan Carter":https://iknifecollector.com/profile/JanCarte
 r
ATTACH;FMTTYPE="image/jpeg":http://storage.ning.com/topology/rest/1.0/
 file/get/2831510773?profile=original
ATTENDEE;ROLE=REQ-PARTICIPANT;PARTSTAT=ACCEPTED;RSVP=TRUE;CN="Adam Arc
 her":https://iknifecollector.com/profile/AdamArcher
ATTENDEE;ROLE=REQ-PARTICIPANT;PARTSTAT=ACCEPTED;RSVP=TRUE;CN="Syd Carr
 ":https://iknifecollector.com/profile/SydCarr
ATTENDEE;ROLE=REQ-PARTICIPANT;PARTSTAT=ACCEPTED;RSVP=TRUE;CN="Jan Cart
 er":https://iknifecollector.com/profile/JanCarter
ATTENDEE;ROLE=REQ-PARTICIPANT;PARTSTAT=TENTATIVE;RSVP=TRUE;CN="Scott O
 lson":https://iknifecollector.com/profile/ScottOlson
ATTENDEE;ROLE=REQ-PARTICIPANT;PARTSTAT=TENTATIVE;RSVP=TRUE;CN="Bryan W
 ":https://iknifecollector.com/profile/BryanW
ATTENDEE;ROLE=REQ-PARTICIPANT;PARTSTAT=TENTATIVE;RSVP=TRUE;CN="MJ Wall
 ace":https://iknifecollector.com/profile/MJWallace
ATTENDEE;ROLE=REQ-PARTICIPANT;PARTSTAT=TENTATIVE;RSVP=TRUE;CN=jeff:htt
 ps://iknifecollector.com/profile/jeff599
ATTENDEE;ROLE=REQ-PARTICIPANT;PARTSTAT=TENTATIVE;RSVP=TRUE;CN="Curtis 
 Scott":https://iknifecollector.com/profile/CurtisScott
END:VEVENT
END:VCALENDAR
