BEGIN:VCALENDAR
PRODID:NingEventWidget-v1
VERSION:2.0
METHOD:PUBLISH
BEGIN:VTIMEZONE
TZID:America/Chicago
X-LIC-LOCATION:America/Chicago
BEGIN:DAYLIGHT
TZOFFSETFROM:-0600
TZOFFSETTO:-0500
TZNAME:CDT
DTSTART:19700308T020000
RRULE:FREQ=YEARLY;BYMONTH=3;BYDAY=2SU
END:DAYLIGHT
BEGIN:STANDARD
TZOFFSETFROM:-0500
TZOFFSETTO:-0600
TZNAME:CST
DTSTART:19701101T020000
RRULE:FREQ=YEARLY;BYMONTH=11;BYDAY=1SU
END:STANDARD
END:VTIMEZONE
BEGIN:VEVENT
UID:3181080:Event:712732
DTSTAMP:20260424T022644Z
SUMMARY:Columbia Gun & Knife Show
DESCRIPTION:Mike Kent Shows.\n\nSaturday, December 8\n8 9 AM - 5 PM\n\
 n\nSunday, December 9\n10 AM - 4 PM\n\n\n\n\n\n\n\n\n\n\n\nAdmission:\
 nAdults - $8 Under 12 - Free\n\n\nParking:\n$2 per car\n\n\n\n\n\n\n\n
 \n\nSaturday, December 8\n8   9 AM - 5 PM\n\n\nSunday, December 9\
 n    10 AM - 4 PM\n\n\n\n\nMike Kent and Associates, LLC was founde
 d in 1990 to produce the Nashville Civil War Show, which has grown to 
 become the largest Civil War Show in the world, featuring over 1,000 t
 ables of authentic Civil War weapons and memorabilia. Since 1990, we h
 ave produced over 400 shows and have expanded our scope to include Gun
  and Knife Shows in North and South Carolina as well as Civil War show
 s in Richmond, VA, Charleston, SC and Dalton, GA\n\nFor more informati
 on visit https://iknifecollector.com/events/columbia-gun-knife-show
DTSTART;TZID=America/Chicago:20121208T090000
DTEND;TZID=America/Chicago:20121209T160000
CATEGORIES:gun, and, knife, show
LOCATION:South Carolina State Fairgrounds
WEBSITE:http://www.mkshows.com/cgi-bin/show_display.asp?26
URL:http://www.mkshows.com/cgi-bin/show_display.asp?26
CONTACT:
ORGANIZER;CN="J.J. Smith III":https://iknifecollector.com/profile/John
 JSmithIII
ATTACH;FMTTYPE="image/jpeg":http://storage.ning.com/topology/rest/1.0/
 file/get/2831353996?profile=original
ATTENDEE;ROLE=REQ-PARTICIPANT;PARTSTAT=ACCEPTED;RSVP=TRUE;CN="J.J. Smi
 th III":https://iknifecollector.com/profile/JohnJSmithIII
END:VEVENT
END:VCALENDAR
