BEGIN:VCALENDAR
PRODID:NingEventWidget-v1
VERSION:2.0
METHOD:PUBLISH
BEGIN:VTIMEZONE
TZID:America/Chicago
X-LIC-LOCATION:America/Chicago
BEGIN:DAYLIGHT
TZOFFSETFROM:-0600
TZOFFSETTO:-0500
TZNAME:CDT
DTSTART:19700308T020000
RRULE:FREQ=YEARLY;BYMONTH=3;BYDAY=2SU
END:DAYLIGHT
BEGIN:STANDARD
TZOFFSETFROM:-0500
TZOFFSETTO:-0600
TZNAME:CST
DTSTART:19701101T020000
RRULE:FREQ=YEARLY;BYMONTH=11;BYDAY=1SU
END:STANDARD
END:VTIMEZONE
BEGIN:VEVENT
UID:3181080:Event:1336117
DTSTAMP:20260424T071949Z
SUMMARY:Cumberland County Gun & Knife Show **TN**
DESCRIPTION:\r\n\r\nSaturday: 9:00am - 5:00pm\r\nSunday: 9:00am - 4:
 00pm\r\n\r\n\r\nAdmission\r\n\r\n\r\nGeneral: $5.00\r\nChildren under 
 16: Free\r\n\r\nFree admission for all on Sunday!\r\n\r\n\r\nFree Park
 ing\r\n\r\n\r\n\r\nDescription\r\n\r\nThe Cumberland County Gun & Knif
 e Show will be held on Aug 3rd-4th, 2019 in Crossville, TN. This Cro
 ssville gun show is held at Cumberland County Complex and hosted by Cu
 mberland County. All federal, state and local firearm ordinances and l
 aws must be obeyed.\r\nA confiscated weapons auction will be held on S
 aturday, Aug. 3 at 5:00pm.\r\n\r\nRegistration for the auction can be 
 done at the gun show\r\nTV monitor preview throughout the day\r\nLive 
 preview from 4:00pm - 5:00pm\r\n\r\n\n\nFor more information visit htt
 ps://iknifecollector.com/events/cumberland-county-gun-knife-show-1
DTSTART;TZID=America/Chicago:20190803T000000
DTEND;TZID=America/Chicago:20190804T235900
CATEGORIES:gun, "&amp", knife, show
LOCATION:Cumberland County Complex
WEBSITE:https://gunshowtrader.com/gun-shows/cumberland-county-gun-knif
 e-show/
URL:https://gunshowtrader.com/gun-shows/cumberland-county-gun-knife-sh
 ow/
CONTACT:
ORGANIZER;CN="Jan Carter":https://iknifecollector.com/profile/JanCarte
 r
ATTACH;FMTTYPE="image/jpeg":http://storage.ning.com/topology/rest/1.0/
 file/get/2831516363?profile=original
END:VEVENT
END:VCALENDAR
