BEGIN:VCALENDAR
PRODID:NingEventWidget-v1
VERSION:2.0
METHOD:PUBLISH
BEGIN:VTIMEZONE
TZID:America/Chicago
X-LIC-LOCATION:America/Chicago
BEGIN:DAYLIGHT
TZOFFSETFROM:-0600
TZOFFSETTO:-0500
TZNAME:CDT
DTSTART:19700308T020000
RRULE:FREQ=YEARLY;BYMONTH=3;BYDAY=2SU
END:DAYLIGHT
BEGIN:STANDARD
TZOFFSETFROM:-0500
TZOFFSETTO:-0600
TZNAME:CST
DTSTART:19701101T020000
RRULE:FREQ=YEARLY;BYMONTH=11;BYDAY=1SU
END:STANDARD
END:VTIMEZONE
BEGIN:VEVENT
UID:3181080:Event:1426424
DTSTAMP:20260424T071950Z
SUMMARY:Cumberland County Gun & Knife Show
DESCRIPTION:.\n\nFor more information visit https://iknifecollector.co
 m/events/cumberland-county-gun-knife-show-2
DTSTART;TZID=America/Chicago:20160806T000000
DTEND;TZID=America/Chicago:20160807T235900
CATEGORIES:gun, and, knife, show
LOCATION:Cumberland County Complex
WEBSITE:http://www.downtowncrossvilleinc.net/events/non-dci-events/gun
 -knife-show
URL:http://www.downtowncrossvilleinc.net/events/non-dci-events/gun-kni
 fe-show
CONTACT:
ORGANIZER;CN="Jan Carter":https://iknifecollector.com/profile/JanCarte
 r
ATTACH;FMTTYPE="image/jpeg":http://storage.ning.com/topology/rest/1.0/
 file/get/2831370229?profile=original
END:VEVENT
END:VCALENDAR
