BEGIN:VCALENDAR
PRODID:NingEventWidget-v1
VERSION:2.0
METHOD:PUBLISH
BEGIN:VTIMEZONE
TZID:America/Chicago
X-LIC-LOCATION:America/Chicago
BEGIN:DAYLIGHT
TZOFFSETFROM:-0600
TZOFFSETTO:-0500
TZNAME:CDT
DTSTART:19700308T020000
RRULE:FREQ=YEARLY;BYMONTH=3;BYDAY=2SU
END:DAYLIGHT
BEGIN:STANDARD
TZOFFSETFROM:-0500
TZOFFSETTO:-0600
TZNAME:CST
DTSTART:19701101T020000
RRULE:FREQ=YEARLY;BYMONTH=11;BYDAY=1SU
END:STANDARD
END:VTIMEZONE
BEGIN:VEVENT
UID:3181080:Event:1202090
DTSTAMP:20260425T153554Z
SUMMARY:Dallas Arms Collectors Gun and Knife Show
DESCRIPTION:Search over 2,000 TABLES in over 250,000 square feet of Da
 llas Arms Collectors Association Gun Show, resulting in over 3 miles o
 f 8' table spaces!\n\nFor more information visit https://iknifecollect
 or.com/events/dallas-arms-collectors-gun-and-knife-show-1
DTSTART;TZID=America/Chicago:20141129T000000
DTEND;TZID=America/Chicago:20141130T235900
CATEGORIES:gun, and, knife, show
LOCATION:Dallas Market Hall
WEBSITE:http://www.dallasarms.com/
URL:http://www.dallasarms.com/
CONTACT:
ORGANIZER;CN="Jan Carter":https://iknifecollector.com/profile/JanCarte
 r
ATTACH;FMTTYPE="image/jpeg":
ATTENDEE;ROLE=REQ-PARTICIPANT;PARTSTAT=ACCEPTED;RSVP=TRUE;CN="Jan Cart
 er":https://iknifecollector.com/profile/JanCarter
END:VEVENT
END:VCALENDAR
