BEGIN:VCALENDAR
PRODID:NingEventWidget-v1
VERSION:2.0
METHOD:PUBLISH
BEGIN:VTIMEZONE
TZID:America/Chicago
X-LIC-LOCATION:America/Chicago
BEGIN:DAYLIGHT
TZOFFSETFROM:-0600
TZOFFSETTO:-0500
TZNAME:CDT
DTSTART:19700308T020000
RRULE:FREQ=YEARLY;BYMONTH=3;BYDAY=2SU
END:DAYLIGHT
BEGIN:STANDARD
TZOFFSETFROM:-0500
TZOFFSETTO:-0600
TZNAME:CST
DTSTART:19701101T020000
RRULE:FREQ=YEARLY;BYMONTH=11;BYDAY=1SU
END:STANDARD
END:VTIMEZONE
BEGIN:VEVENT
UID:3181080:Event:563041
DTSTAMP:20260422T054400Z
SUMMARY:Dugger Gun & Knife Show
DESCRIPTION:Admission $4\n\nFor more information visit https://iknifec
 ollector.com/events/dugger-gun-knife-show
DTSTART;TZID=America/Chicago:20120310T000000
DTEND;TZID=America/Chicago:20120311T235900
CATEGORIES:gun, and, knife, show
LOCATION:Dugger Community Building
WEBSITE:http://www.showsmart.com/Shows/Dugger-Gun--Knife-Show-ss-66631
 .html
URL:http://www.showsmart.com/Shows/Dugger-Gun--Knife-Show-ss-66631.htm
 l
CONTACT:
ORGANIZER:
ATTACH;FMTTYPE="image/jpeg":
ATTENDEE;ROLE=REQ-PARTICIPANT;PARTSTAT=ACCEPTED;RSVP=TRUE;CN="Jan Cart
 er":https://iknifecollector.com/profile/JanCarter
END:VEVENT
END:VCALENDAR
