BEGIN:VCALENDAR
PRODID:NingEventWidget-v1
VERSION:2.0
METHOD:PUBLISH
BEGIN:VTIMEZONE
TZID:America/Chicago
X-LIC-LOCATION:America/Chicago
BEGIN:DAYLIGHT
TZOFFSETFROM:-0600
TZOFFSETTO:-0500
TZNAME:CDT
DTSTART:19700308T020000
RRULE:FREQ=YEARLY;BYMONTH=3;BYDAY=2SU
END:DAYLIGHT
BEGIN:STANDARD
TZOFFSETFROM:-0500
TZOFFSETTO:-0600
TZNAME:CST
DTSTART:19701101T020000
RRULE:FREQ=YEARLY;BYMONTH=11;BYDAY=1SU
END:STANDARD
END:VTIMEZONE
BEGIN:VEVENT
UID:3181080:Event:797241
DTSTAMP:20260422T190152Z
SUMMARY:Dutch Knife Exhibition 2013
DESCRIPTION:he Dutch Knife Exhibition is a Dutch knife show which is o
 rganized by a team of Dutch Cutlery.\n \nThe aim of the show is the D
 utch fan blades in contact with custom knife makers and better trade m
 arks. A second purpose is the transfer of knowledge.\n \nDuring the 
 show there is the possibility to knife makers and representatives of t
 rademarks to talk about their products. If the products you are very 
 appealing it is also possible to buy these. In addition, during the s
 how several demonstrations organized.Overall a fun event for everyone 
 who is interested in the topic knife!\n \nWe invite you to explore th
 e site further by walking and the seventh Dutch Knife Exhibition visit
 .\n \nSee you in April!\n\nFor more information visit https://iknifec
 ollector.com/events/dutch-knife-exhibition-2013
DTSTART;TZID=America/Chicago:20130420T000000
DTEND;TZID=America/Chicago:20130420T235900
CATEGORIES:knife, exhibition
LOCATION:Restaurant Betuwe\"
WEBSITE:http://www.dkeshow.nl/
URL:http://www.dkeshow.nl/
CONTACT:
ORGANIZER;CN="Jan Carter":https://iknifecollector.com/profile/JanCarte
 r
ATTACH;FMTTYPE="image/jpeg":
ATTENDEE;ROLE=REQ-PARTICIPANT;PARTSTAT=ACCEPTED;RSVP=TRUE;CN="Alexande
 r Noot":https://iknifecollector.com/profile/AlexanderNoot
ATTENDEE;ROLE=REQ-PARTICIPANT;PARTSTAT=ACCEPTED;RSVP=TRUE;CN="Jan Cart
 er":https://iknifecollector.com/profile/JanCarter
END:VEVENT
END:VCALENDAR
