BEGIN:VCALENDAR
PRODID:NingEventWidget-v1
VERSION:2.0
METHOD:PUBLISH
BEGIN:VTIMEZONE
TZID:America/Chicago
X-LIC-LOCATION:America/Chicago
BEGIN:DAYLIGHT
TZOFFSETFROM:-0600
TZOFFSETTO:-0500
TZNAME:CDT
DTSTART:19700308T020000
RRULE:FREQ=YEARLY;BYMONTH=3;BYDAY=2SU
END:DAYLIGHT
BEGIN:STANDARD
TZOFFSETFROM:-0500
TZOFFSETTO:-0600
TZNAME:CST
DTSTART:19701101T020000
RRULE:FREQ=YEARLY;BYMONTH=11;BYDAY=1SU
END:STANDARD
END:VTIMEZONE
BEGIN:VEVENT
UID:3181080:Event:1525621
DTSTAMP:20260420T042125Z
SUMMARY:EAST COAST CUSTOM KNIFE SHOW **FL
DESCRIPTION:CUSTOM KNIFE SHOW\n\nFor more information visit https://ik
 nifecollector.com/events/east-coast-custom-knife-show-fl-1
DTSTART;TZID=America/Chicago:20180316T180000
DTEND;TZID=America/Chicago:20180317T190000
CATEGORIES:knife, show
LOCATION:Westin Hotel
WEBSITE:http://www.ecckshow.com/
URL:http://www.ecckshow.com/
CONTACT:
ORGANIZER:
ATTACH;FMTTYPE="image/jpeg":
ATTENDEE;ROLE=REQ-PARTICIPANT;PARTSTAT=ACCEPTED;RSVP=TRUE;CN="Jan Cart
 er":https://iknifecollector.com/profile/JanCarter
END:VEVENT
END:VCALENDAR
