BEGIN:VCALENDAR
PRODID:NingEventWidget-v1
VERSION:2.0
METHOD:PUBLISH
BEGIN:VTIMEZONE
TZID:America/Chicago
X-LIC-LOCATION:America/Chicago
BEGIN:DAYLIGHT
TZOFFSETFROM:-0600
TZOFFSETTO:-0500
TZNAME:CDT
DTSTART:19700308T020000
RRULE:FREQ=YEARLY;BYMONTH=3;BYDAY=2SU
END:DAYLIGHT
BEGIN:STANDARD
TZOFFSETFROM:-0500
TZOFFSETTO:-0600
TZNAME:CST
DTSTART:19701101T020000
RRULE:FREQ=YEARLY;BYMONTH=11;BYDAY=1SU
END:STANDARD
END:VTIMEZONE
BEGIN:VEVENT
UID:3181080:Event:1452984
DTSTAMP:20260423T194132Z
SUMMARY:EAST COAST CUSTOM KNIFE SHOW (FL)
DESCRIPTION:This event showcases products like Knife Treasures, Sporti
 ng Goods, Knife and Tool Institute, Photography, Cutlery set and the l
 ist is endless etc. in the Business Services, Security & Defense indus
 tries.\n\nFor more information visit https://iknifecollector.com/event
 s/east-coast-custom-knife-show-fl
DTSTART;TZID=America/Chicago:20170317T000000
DTEND;TZID=America/Chicago:20170318T235900
CATEGORIES:knife, show
LOCATION:Weston Hotel
WEBSITE:http://www.ecckshow.com/
URL:http://www.ecckshow.com/
CONTACT:
ORGANIZER;CN="Jan Carter":https://iknifecollector.com/profile/JanCarte
 r
ATTACH;FMTTYPE="image/jpeg":
END:VEVENT
END:VCALENDAR
