BEGIN:VCALENDAR
PRODID:NingEventWidget-v1
VERSION:2.0
METHOD:PUBLISH
BEGIN:VTIMEZONE
TZID:America/Chicago
X-LIC-LOCATION:America/Chicago
BEGIN:DAYLIGHT
TZOFFSETFROM:-0600
TZOFFSETTO:-0500
TZNAME:CDT
DTSTART:19700308T020000
RRULE:FREQ=YEARLY;BYMONTH=3;BYDAY=2SU
END:DAYLIGHT
BEGIN:STANDARD
TZOFFSETFROM:-0500
TZOFFSETTO:-0600
TZNAME:CST
DTSTART:19701101T020000
RRULE:FREQ=YEARLY;BYMONTH=11;BYDAY=1SU
END:STANDARD
END:VTIMEZONE
BEGIN:VEVENT
UID:3181080:Event:1073368
DTSTAMP:20260424T072114Z
SUMMARY:Eastern Pennsylvania Knife Collectors Association Knife show
DESCRIPTION:Eastern Pennsylvania Knife Collectors Association knife sh
 ow\n\nFor more information visit https://iknifecollector.com/events/ea
 stern-pennsylvania-knife-collectors-association-knife-show
DTSTART;TZID=America/Chicago:20160416T210000
DTEND;TZID=America/Chicago:20160417T150000
CATEGORIES:knife, show
LOCATION:Plainfield Twp Fire Co. Social Hall 6480 Sullivan Trail, Wind
  Gap, Pa
WEBSITE:http://knifecluborg.weebly.com/
URL:http://knifecluborg.weebly.com/
CONTACT:
ORGANIZER;CN="Greg Dash":https://iknifecollector.com/profile/GregDash
ATTACH;FMTTYPE="image/jpeg":
ATTENDEE;ROLE=REQ-PARTICIPANT;PARTSTAT=ACCEPTED;RSVP=TRUE;CN="Bryan W"
 :https://iknifecollector.com/profile/BryanW
ATTENDEE;ROLE=REQ-PARTICIPANT;PARTSTAT=ACCEPTED;RSVP=TRUE;CN="Michelle
  \"Fingers\" DellaPelle":https://iknifecollector.com/profile/MichelleD
 ellaPelle
ATTENDEE;ROLE=REQ-PARTICIPANT;PARTSTAT=ACCEPTED;RSVP=TRUE;CN="Greg Das
 h":https://iknifecollector.com/profile/GregDash
END:VEVENT
END:VCALENDAR
