BEGIN:VCALENDAR
PRODID:NingEventWidget-v1
VERSION:2.0
METHOD:PUBLISH
BEGIN:VTIMEZONE
TZID:America/Chicago
X-LIC-LOCATION:America/Chicago
BEGIN:DAYLIGHT
TZOFFSETFROM:-0600
TZOFFSETTO:-0500
TZNAME:CDT
DTSTART:19700308T020000
RRULE:FREQ=YEARLY;BYMONTH=3;BYDAY=2SU
END:DAYLIGHT
BEGIN:STANDARD
TZOFFSETFROM:-0500
TZOFFSETTO:-0600
TZNAME:CST
DTSTART:19701101T020000
RRULE:FREQ=YEARLY;BYMONTH=11;BYDAY=1SU
END:STANDARD
END:VTIMEZONE
BEGIN:VEVENT
UID:3181080:Event:1452978
DTSTAMP:20260424T031920Z
SUMMARY:Eugene Oregon Mini Show
DESCRIPTION:Oregon Knife Collectors Association Mini (one day) Show\n\
 nFor more information visit https://iknifecollector.com/events/eugene-
 oregon-mini-show
DTSTART;TZID=America/Chicago:20161210T180000
DTEND;TZID=America/Chicago:20161210T190000
CATEGORIES:knife, show
LOCATION:Wheeler Pavillion at Lane Events Center
WEBSITE:http://www.oregonknifeclub.org/shows.html
URL:http://www.oregonknifeclub.org/shows.html
CONTACT:
ORGANIZER;CN="Jan Carter":https://iknifecollector.com/profile/JanCarte
 r
ATTACH;FMTTYPE="image/jpeg":
END:VEVENT
END:VCALENDAR
