BEGIN:VCALENDAR
PRODID:NingEventWidget-v1
VERSION:2.0
METHOD:PUBLISH
BEGIN:VTIMEZONE
TZID:America/Chicago
X-LIC-LOCATION:America/Chicago
BEGIN:DAYLIGHT
TZOFFSETFROM:-0600
TZOFFSETTO:-0500
TZNAME:CDT
DTSTART:19700308T020000
RRULE:FREQ=YEARLY;BYMONTH=3;BYDAY=2SU
END:DAYLIGHT
BEGIN:STANDARD
TZOFFSETFROM:-0500
TZOFFSETTO:-0600
TZNAME:CST
DTSTART:19701101T020000
RRULE:FREQ=YEARLY;BYMONTH=11;BYDAY=1SU
END:STANDARD
END:VTIMEZONE
BEGIN:VEVENT
UID:3181080:Event:1202023
DTSTAMP:20260425T173639Z
SUMMARY:FIREARM & KNIFE SHOW
DESCRIPTION:SPORTING - ANTIQUE - ANDCOLLECTIBLE FIREARMSCUSTOM & HIGH 
 QUALITY KNIVESVARIOUS MILITARIA - AMMOAND RELATED MEMORABILIA\n\nFor m
 ore information visit https://iknifecollector.com/events/firearm-knife
 -show
DTSTART;TZID=America/Chicago:20141108T180000
DTEND;TZID=America/Chicago:20141109T190000
CATEGORIES:firearm, "&", knife, show
LOCATION:SHRINERS AUDITORIUM
WEBSITE:http://users.erols.com/fasttrack/loc/wil/WILMINGTON.htm
URL:http://users.erols.com/fasttrack/loc/wil/WILMINGTON.htm
CONTACT:
ORGANIZER;CN="Jan Carter":https://iknifecollector.com/profile/JanCarte
 r
ATTACH;FMTTYPE="image/jpeg":
ATTENDEE;ROLE=REQ-PARTICIPANT;PARTSTAT=ACCEPTED;RSVP=TRUE;CN="Jan Cart
 er":https://iknifecollector.com/profile/JanCarter
END:VEVENT
END:VCALENDAR
