BEGIN:VCALENDAR
PRODID:NingEventWidget-v1
VERSION:2.0
METHOD:PUBLISH
BEGIN:VTIMEZONE
TZID:America/Chicago
X-LIC-LOCATION:America/Chicago
BEGIN:DAYLIGHT
TZOFFSETFROM:-0600
TZOFFSETTO:-0500
TZNAME:CDT
DTSTART:19700308T020000
RRULE:FREQ=YEARLY;BYMONTH=3;BYDAY=2SU
END:DAYLIGHT
BEGIN:STANDARD
TZOFFSETFROM:-0500
TZOFFSETTO:-0600
TZNAME:CST
DTSTART:19701101T020000
RRULE:FREQ=YEARLY;BYMONTH=11;BYDAY=1SU
END:STANDARD
END:VTIMEZONE
BEGIN:VEVENT
UID:3181080:Event:33840
DTSTAMP:20260424T164717Z
SUMMARY:First Annual Gathering of the Usual Suspect Network
DESCRIPTION:Open to all USN members.\n\nFor more information visit htt
 ps://iknifecollector.com/events/first-annual-gathering-of-the
DTSTART;TZID=America/Chicago:20090904T100000
DTEND;TZID=America/Chicago:20090905T180000
CATEGORIES:"knife show", "membership meeting"
LOCATION:Planet Hollywood Resort & Casino- Las Vegas
WEBSITE:https://www.usngathering.com/
URL:https://www.usngathering.com/
CONTACT:
ORGANIZER:Usual Suspect Network
ATTACH;FMTTYPE="image/jpeg":http://storage.ning.com/topology/rest/1.0/
 file/get/2831228911?profile=original
ATTENDEE;ROLE=REQ-PARTICIPANT;PARTSTAT=ACCEPTED;RSVP=TRUE;CN="Scott Ki
 ng":https://iknifecollector.com/profile/scottking
END:VEVENT
END:VCALENDAR
