BEGIN:VCALENDAR
PRODID:NingEventWidget-v1
VERSION:2.0
METHOD:PUBLISH
BEGIN:VTIMEZONE
TZID:America/Chicago
X-LIC-LOCATION:America/Chicago
BEGIN:DAYLIGHT
TZOFFSETFROM:-0600
TZOFFSETTO:-0500
TZNAME:CDT
DTSTART:19700308T020000
RRULE:FREQ=YEARLY;BYMONTH=3;BYDAY=2SU
END:DAYLIGHT
BEGIN:STANDARD
TZOFFSETFROM:-0500
TZOFFSETTO:-0600
TZNAME:CST
DTSTART:19701101T020000
RRULE:FREQ=YEARLY;BYMONTH=11;BYDAY=1SU
END:STANDARD
END:VTIMEZONE
BEGIN:VEVENT
UID:3181080:Event:124738
DTSTAMP:20260423T223848Z
SUMMARY:Fourth Annual Lehigh Valley Knife Show
DESCRIPTION:Buy, sell, and display knives: New, antique, rusty, factor
 y, custom, hunting,military, swords, daggers, folders, Bowies, razors,
  sharpeners, books!\n\nRecently sanctioned and promoted by the Nationa
 l Knife Collectors Association!\n\nFor more information visit https://
 iknifecollector.com/events/fourth-annual-lehigh-valley
DTSTART;TZID=America/Chicago:20100925T210000
DTEND;TZID=America/Chicago:20100926T170000
CATEGORIES:"knife show"
LOCATION:Forks Township Community Center
WEBSITE:http://www.PAKnifeShow.com
URL:http://www.PAKnifeShow.com
CONTACT:610-253-2745
ORGANIZER:Bill Goodman
ATTACH;FMTTYPE="image/jpeg":
END:VEVENT
END:VCALENDAR
