BEGIN:VCALENDAR
PRODID:NingEventWidget-v1
VERSION:2.0
METHOD:PUBLISH
BEGIN:VTIMEZONE
TZID:America/Chicago
X-LIC-LOCATION:America/Chicago
BEGIN:DAYLIGHT
TZOFFSETFROM:-0600
TZOFFSETTO:-0500
TZNAME:CDT
DTSTART:19700308T020000
RRULE:FREQ=YEARLY;BYMONTH=3;BYDAY=2SU
END:DAYLIGHT
BEGIN:STANDARD
TZOFFSETFROM:-0500
TZOFFSETTO:-0600
TZNAME:CST
DTSTART:19701101T020000
RRULE:FREQ=YEARLY;BYMONTH=11;BYDAY=1SU
END:STANDARD
END:VTIMEZONE
BEGIN:VEVENT
UID:3181080:Event:1040540
DTSTAMP:20260424T174051Z
SUMMARY:Gateway Area Knife Club Cutlery Fair
DESCRIPTION:St Louis MO show\n\nFor more information visit https://ikn
 ifecollector.com/events/gateway-area-knife-club-cutlery-fair-2
DTSTART;TZID=America/Chicago:20140125T000000
DTEND;TZID=America/Chicago:20140126T235900
CATEGORIES:knife, show
LOCATION:Carpenter’s Hall
WEBSITE:http://www.bladesmithnews.com/gateway-area-knife-club-cutlery-
 fair-jan-26-27th/
URL:http://www.bladesmithnews.com/gateway-area-knife-club-cutlery-fair
 -jan-26-27th/
CONTACT:
ORGANIZER;CN="Jan Carter":https://iknifecollector.com/profile/JanCarte
 r
ATTACH;FMTTYPE="image/jpeg":
ATTENDEE;ROLE=REQ-PARTICIPANT;PARTSTAT=ACCEPTED;RSVP=TRUE;CN="Charles 
 Reed":https://iknifecollector.com/profile/CharlesReed
ATTENDEE;ROLE=REQ-PARTICIPANT;PARTSTAT=ACCEPTED;RSVP=TRUE;CN="Jan Cart
 er":https://iknifecollector.com/profile/JanCarter
END:VEVENT
END:VCALENDAR
