BEGIN:VCALENDAR
PRODID:NingEventWidget-v1
VERSION:2.0
METHOD:PUBLISH
BEGIN:VTIMEZONE
TZID:America/Chicago
X-LIC-LOCATION:America/Chicago
BEGIN:DAYLIGHT
TZOFFSETFROM:-0600
TZOFFSETTO:-0500
TZNAME:CDT
DTSTART:19700308T020000
RRULE:FREQ=YEARLY;BYMONTH=3;BYDAY=2SU
END:DAYLIGHT
BEGIN:STANDARD
TZOFFSETFROM:-0500
TZOFFSETTO:-0600
TZNAME:CST
DTSTART:19701101T020000
RRULE:FREQ=YEARLY;BYMONTH=11;BYDAY=1SU
END:STANDARD
END:VTIMEZONE
BEGIN:VEVENT
UID:3181080:Event:1684025
DTSTAMP:20260424T183442Z
SUMMARY:Gateway Area Knife Club Cutlery Fair**MO**
DESCRIPTION:GAKC's annual event -- if you like knives or need a knife 
 for home, work, or recreation, this is where you'll want to be!\r\nNEW
  VENUE FOR 2021! The show is now located at the Sheet Metal Workers Ha
 ll at 2319 Chouteau Ave., St. Louis, MO 63103 Visit us on Facebook @ga
 tewayareaknifeclub.stl\n\nFor more information visit https://iknifecol
 lector.com/events/gateway-area-knife-club-cutlery-fair-mo-1
DTSTART;TZID=America/Chicago:20210828T000000
DTEND;TZID=America/Chicago:20210829T235900
CATEGORIES:knife, show
LOCATION:Sheet Metal Workers Hall
WEBSITE:https://www.knifemagazine.com/event/gateway-area-knife-club-cu
 tlery-fair/2021-08-28/
URL:https://www.knifemagazine.com/event/gateway-area-knife-club-cutler
 y-fair/2021-08-28/
CONTACT:
ORGANIZER;CN="Jan Carter":https://iknifecollector.com/profile/JanCarte
 r
ATTACH;FMTTYPE="image/jpeg":
END:VEVENT
END:VCALENDAR
