BEGIN:VCALENDAR
PRODID:NingEventWidget-v1
VERSION:2.0
METHOD:PUBLISH
BEGIN:VTIMEZONE
TZID:America/Chicago
X-LIC-LOCATION:America/Chicago
BEGIN:DAYLIGHT
TZOFFSETFROM:-0600
TZOFFSETTO:-0500
TZNAME:CDT
DTSTART:19700308T020000
RRULE:FREQ=YEARLY;BYMONTH=3;BYDAY=2SU
END:DAYLIGHT
BEGIN:STANDARD
TZOFFSETFROM:-0500
TZOFFSETTO:-0600
TZNAME:CST
DTSTART:19701101T020000
RRULE:FREQ=YEARLY;BYMONTH=11;BYDAY=1SU
END:STANDARD
END:VTIMEZONE
BEGIN:VEVENT
UID:3181080:Event:1452981
DTSTAMP:20260423T203736Z
SUMMARY:Gateway Area Knife Club (MO)
DESCRIPTION:The club hosts an annual knife show, also called a “cutl
 ery fair,” in January of each year.  The show has over 100 tables, 
 and purveyors include custom knife makers, production knives, and knif
 e making supplies.  The show is held at the Carpenter’s Union Hall,
  1401 Hampton Ave, St. Louis, MO  63139. \n\nFor more information vi
 sit https://iknifecollector.com/events/gateway-area-knife-club-mo
DTSTART;TZID=America/Chicago:20170128T000000
DTEND;TZID=America/Chicago:20170129T235900
CATEGORIES:knife, show
LOCATION:Carpenter’s Union Hall
WEBSITE:http://gatewayareaknifeclub.org/gatewayareaknifeclub.org/gatew
 ayareaknifeclub.org/Annual_Knife_Show.html
URL:http://gatewayareaknifeclub.org/gatewayareaknifeclub.org/gatewayar
 eaknifeclub.org/Annual_Knife_Show.html
CONTACT:
ORGANIZER;CN="Jan Carter":https://iknifecollector.com/profile/JanCarte
 r
ATTACH;FMTTYPE="image/jpeg":
ATTENDEE;ROLE=REQ-PARTICIPANT;PARTSTAT=ACCEPTED;RSVP=TRUE;CN="Jan Cart
 er":https://iknifecollector.com/profile/JanCarter
ATTENDEE;ROLE=REQ-PARTICIPANT;PARTSTAT=TENTATIVE;RSVP=TRUE;CN=Railspli
 tter:https://iknifecollector.com/profile/Railsplitter
END:VEVENT
END:VCALENDAR
