BEGIN:VCALENDAR
PRODID:NingEventWidget-v1
VERSION:2.0
METHOD:PUBLISH
BEGIN:VTIMEZONE
TZID:America/Chicago
X-LIC-LOCATION:America/Chicago
BEGIN:DAYLIGHT
TZOFFSETFROM:-0600
TZOFFSETTO:-0500
TZNAME:CDT
DTSTART:19700308T020000
RRULE:FREQ=YEARLY;BYMONTH=3;BYDAY=2SU
END:DAYLIGHT
BEGIN:STANDARD
TZOFFSETFROM:-0500
TZOFFSETTO:-0600
TZNAME:CST
DTSTART:19701101T020000
RRULE:FREQ=YEARLY;BYMONTH=11;BYDAY=1SU
END:STANDARD
END:VTIMEZONE
BEGIN:VEVENT
UID:3181080:Event:1159794
DTSTAMP:20260420T173922Z
SUMMARY:GEC*2014 RENDEZVOUS
DESCRIPTION:August 7th and 8th\nGEC will be open for factory tours.\nT
 our the factory and learn how the knives are made.\nFactory Store will
  be open.\n \nSaturday, August 9th   GEC will be open from 7:00 a.m
 . – 1:00 p.m\nTours available (workers will not be at their stations
 ) \nFactory store will be open.\n \nSaturday, August 9th,   we wil
 l have a RSVP PICNIC\nwhere you can meet the staff from G.E.C.\nTime:
  1:00 P.M.\nLocation:  Mystic Park, Hydetown, PA\nWhile you are in to
 wn for our Rendezvous, check out Titusville Oil Festival events which
  will be also be held on Aug. 8th & 9th.\nThey include:  Craft and Fo
 od Vendors, Wine Walk Tasting, Music Concerts, Fine Arts Show, Chal
 k Walk, Drake’s Folly Beer Festival, Antique & Muscle Car Show, KIDZ
  Zone Amusements and Fireworks.\nFor more information on the Titusvill
 e Oil Festival and Titusville area \n\nFor more information visit htt
 ps://iknifecollector.com/events/gec-2014-rendezvous
DTSTART;TZID=America/Chicago:20140807T000000
DTEND;TZID=America/Chicago:20140809T235900
CATEGORIES:"gec*2014", rendezvous
LOCATION:Great Eastern Factory
WEBSITE:http://greateasterncutlery.net/blog/about/contacts/
URL:http://greateasterncutlery.net/blog/about/contacts/
CONTACT:
ORGANIZER;CN="Jan Carter":https://iknifecollector.com/profile/JanCarte
 r
ATTACH;FMTTYPE="image/jpeg":http://storage.ning.com/topology/rest/1.0/
 file/get/2831467822?profile=original
ATTENDEE;ROLE=REQ-PARTICIPANT;PARTSTAT=ACCEPTED;RSVP=TRUE;CN="Terry Ra
 y":https://iknifecollector.com/profile/TerryRay
ATTENDEE;ROLE=REQ-PARTICIPANT;PARTSTAT=TENTATIVE;RSVP=TRUE;CN="Michell
 e \"Fingers\" DellaPelle":https://iknifecollector.com/profile/Michelle
 DellaPelle
END:VEVENT
END:VCALENDAR
