BEGIN:VCALENDAR
PRODID:NingEventWidget-v1
VERSION:2.0
METHOD:PUBLISH
BEGIN:VTIMEZONE
TZID:America/Chicago
X-LIC-LOCATION:America/Chicago
BEGIN:DAYLIGHT
TZOFFSETFROM:-0600
TZOFFSETTO:-0500
TZNAME:CDT
DTSTART:19700308T020000
RRULE:FREQ=YEARLY;BYMONTH=3;BYDAY=2SU
END:DAYLIGHT
BEGIN:STANDARD
TZOFFSETFROM:-0500
TZOFFSETTO:-0600
TZNAME:CST
DTSTART:19701101T020000
RRULE:FREQ=YEARLY;BYMONTH=11;BYDAY=1SU
END:STANDARD
END:VTIMEZONE
BEGIN:VEVENT
UID:3181080:Event:1476671
DTSTAMP:20260420T192425Z
SUMMARY:General Building Supply (WV) CASE EVENT
DESCRIPTION:EVENT KNIFE * RussLock®\n\nFor more information visit ht
 tps://iknifecollector.com/events/general-building-supply-wv-case-event
DTSTART;TZID=America/Chicago:20170617T090000
DTEND;TZID=America/Chicago:20170617T120000
CATEGORIES:wr, case, tour, event
LOCATION:General Building Supply
WEBSITE:http://www.wrcase.com/happenings/events/
URL:http://www.wrcase.com/happenings/events/
CONTACT:
ORGANIZER:
ATTACH;FMTTYPE="image/jpeg":http://storage.ning.com/topology/rest/1.0/
 file/get/2831439982?profile=original
ATTENDEE;ROLE=REQ-PARTICIPANT;PARTSTAT=ACCEPTED;RSVP=TRUE;CN="Jan Cart
 er":https://iknifecollector.com/profile/JanCarter
END:VEVENT
END:VCALENDAR
