BEGIN:VCALENDAR
PRODID:NingEventWidget-v1
VERSION:2.0
METHOD:PUBLISH
BEGIN:VTIMEZONE
TZID:America/Chicago
X-LIC-LOCATION:America/Chicago
BEGIN:DAYLIGHT
TZOFFSETFROM:-0600
TZOFFSETTO:-0500
TZNAME:CDT
DTSTART:19700308T020000
RRULE:FREQ=YEARLY;BYMONTH=3;BYDAY=2SU
END:DAYLIGHT
BEGIN:STANDARD
TZOFFSETFROM:-0500
TZOFFSETTO:-0600
TZNAME:CST
DTSTART:19701101T020000
RRULE:FREQ=YEARLY;BYMONTH=11;BYDAY=1SU
END:STANDARD
END:VTIMEZONE
BEGIN:VEVENT
UID:3181080:Event:1414429
DTSTAMP:20260424T083556Z
SUMMARY:Great Eastern Cutlery Rendezvous
DESCRIPTION:to be announced\n\nFor more information visit https://ikni
 fecollector.com/events/great-eastern-cutlery-rendezvous
DTSTART;TZID=America/Chicago:20160811T180000
DTEND;TZID=America/Chicago:20160813T190000
CATEGORIES:factory, show
LOCATION:Great Eastern Cutlery
WEBSITE:http://greateasterncutlery.net/blog/information/2016-gec-show-
 schedule/
URL:http://greateasterncutlery.net/blog/information/2016-gec-show-sche
 dule/
CONTACT:
ORGANIZER;CN="Jan Carter":https://iknifecollector.com/profile/JanCarte
 r
ATTACH;FMTTYPE="image/jpeg":http://storage.ning.com/topology/rest/1.0/
 file/get/2831546468?profile=original
ATTENDEE;ROLE=REQ-PARTICIPANT;PARTSTAT=ACCEPTED;RSVP=TRUE;CN="Charles 
 Reed":https://iknifecollector.com/profile/CharlesReed
ATTENDEE;ROLE=REQ-PARTICIPANT;PARTSTAT=TENTATIVE;RSVP=TRUE;CN="Jan Car
 ter":https://iknifecollector.com/profile/JanCarter
END:VEVENT
END:VCALENDAR
