BEGIN:VCALENDAR
PRODID:NingEventWidget-v1
VERSION:2.0
METHOD:PUBLISH
BEGIN:VTIMEZONE
TZID:America/Chicago
X-LIC-LOCATION:America/Chicago
BEGIN:DAYLIGHT
TZOFFSETFROM:-0600
TZOFFSETTO:-0500
TZNAME:CDT
DTSTART:19700308T020000
RRULE:FREQ=YEARLY;BYMONTH=3;BYDAY=2SU
END:DAYLIGHT
BEGIN:STANDARD
TZOFFSETFROM:-0500
TZOFFSETTO:-0600
TZNAME:CST
DTSTART:19701101T020000
RRULE:FREQ=YEARLY;BYMONTH=11;BYDAY=1SU
END:STANDARD
END:VTIMEZONE
BEGIN:VEVENT
UID:3181080:Event:99556
DTSTAMP:20260419T120107Z
SUMMARY:Gulf Coast Gun & Knife Show at Aransas Pass,Tx (Redfish Bay)
DESCRIPTION:Admission $5, 15 & under free, under 18 & must be accompan
 ied by an adult. Guns, Knives & Coins. Buy, Sale or Trade!\n\nFor more
  information visit https://iknifecollector.com/events/gulf-coast-gun-k
 nife-show-at
DTSTART;TZID=America/Chicago:20100320T090000
DTEND;TZID=America/Chicago:20100321T160000
CATEGORIES:gun, and, knife, show
LOCATION:Aransas Pass Civic Center
WEBSITE:http://www.aransaspassciviccenter.com/
URL:http://www.aransaspassciviccenter.com/
CONTACT:254-485-2770
ORGANIZER:Bruce Piehl/Doc's Knife Works
ATTACH;FMTTYPE="image/jpeg":http://storage.ning.com/topology/rest/1.0/
 file/get/2831256755?profile=original
ATTENDEE;ROLE=REQ-PARTICIPANT;PARTSTAT=ACCEPTED;RSVP=TRUE;CN="Bruce Pi
 ehl":https://iknifecollector.com/profile/brucepiehl
END:VEVENT
END:VCALENDAR
