BEGIN:VCALENDAR
PRODID:NingEventWidget-v1
VERSION:2.0
METHOD:PUBLISH
BEGIN:VTIMEZONE
TZID:America/Chicago
X-LIC-LOCATION:America/Chicago
BEGIN:DAYLIGHT
TZOFFSETFROM:-0600
TZOFFSETTO:-0500
TZNAME:CDT
DTSTART:19700308T020000
RRULE:FREQ=YEARLY;BYMONTH=3;BYDAY=2SU
END:DAYLIGHT
BEGIN:STANDARD
TZOFFSETFROM:-0500
TZOFFSETTO:-0600
TZNAME:CST
DTSTART:19701101T020000
RRULE:FREQ=YEARLY;BYMONTH=11;BYDAY=1SU
END:STANDARD
END:VTIMEZONE
BEGIN:VEVENT
UID:3181080:Event:1073458
DTSTAMP:20260424T100807Z
SUMMARY:GUN AND KNIFE SHOW MARLBORO, MA
DESCRIPTION:GUN AND KNIFE SHOWMARLBORO, MA\n\nFor more information vis
 it https://iknifecollector.com/events/gun-and-knife-show-marlboro-ma
DTSTART;TZID=America/Chicago:20140209T180000
DTEND;TZID=America/Chicago:20140209T190000
CATEGORIES:gun, and, knife, show
LOCATION:BEST WESTERN ROYAL PLAZA TRADE CENTER  181 Boston Post Road W
 est Marlborough, MA 01752-1883
WEBSITE:http://users.erols.com/fasttrack/loc/mar/MARLBORO%20FLYER%20MA
 RCH%2014.pdf
URL:http://users.erols.com/fasttrack/loc/mar/MARLBORO%20FLYER%20MARCH%
 2014.pdf
CONTACT:
ORGANIZER;CN="Greg Dash":https://iknifecollector.com/profile/GregDash
ATTACH;FMTTYPE="image/jpeg":
ATTENDEE;ROLE=REQ-PARTICIPANT;PARTSTAT=ACCEPTED;RSVP=TRUE;CN="Greg Das
 h":https://iknifecollector.com/profile/GregDash
END:VEVENT
END:VCALENDAR
