BEGIN:VCALENDAR
PRODID:NingEventWidget-v1
VERSION:2.0
METHOD:PUBLISH
BEGIN:VTIMEZONE
TZID:America/Chicago
X-LIC-LOCATION:America/Chicago
BEGIN:DAYLIGHT
TZOFFSETFROM:-0600
TZOFFSETTO:-0500
TZNAME:CDT
DTSTART:19700308T020000
RRULE:FREQ=YEARLY;BYMONTH=3;BYDAY=2SU
END:DAYLIGHT
BEGIN:STANDARD
TZOFFSETFROM:-0500
TZOFFSETTO:-0600
TZNAME:CST
DTSTART:19701101T020000
RRULE:FREQ=YEARLY;BYMONTH=11;BYDAY=1SU
END:STANDARD
END:VTIMEZONE
BEGIN:VEVENT
UID:3181080:Event:1051876
DTSTAMP:20260424T214026Z
SUMMARY:Harvey MacBurnette, The Chat
DESCRIPTION:\n\nFor more information visit https://iknifecollector.com
 /events/harvey-macburnette-the-cjhat
DTSTART;TZID=America/Chicago:20140115T210000
DTEND;TZID=America/Chicago:20140115T220000
CATEGORIES:ikc, information, chat
LOCATION:Right HERE iKC Chatroom
WEBSITE:http://www.iknifecollector.com/chat
URL:http://www.iknifecollector.com/chat
CONTACT:
ORGANIZER;CN="Jan Carter":https://iknifecollector.com/profile/JanCarte
 r
ATTACH;FMTTYPE="image/jpeg":http://storage.ning.com/topology/rest/1.0/
 file/get/2831438910?profile=original
ATTENDEE;ROLE=REQ-PARTICIPANT;PARTSTAT=ACCEPTED;RSVP=TRUE;CN="Steve Sc
 heuerman (Manx)":https://iknifecollector.com/profile/SteveScheuerman
ATTENDEE;ROLE=REQ-PARTICIPANT;PARTSTAT=ACCEPTED;RSVP=TRUE;CN="Robert A
 . Paolantonio":https://iknifecollector.com/profile/RobertAPaolantonio
ATTENDEE;ROLE=REQ-PARTICIPANT;PARTSTAT=ACCEPTED;RSVP=TRUE;CN="Jan Cart
 er":https://iknifecollector.com/profile/JanCarter
ATTENDEE;ROLE=REQ-PARTICIPANT;PARTSTAT=TENTATIVE;RSVP=TRUE;CN="Jeremy 
  Steinberg":https://iknifecollector.com/profile/JeremySteinberg
END:VEVENT
END:VCALENDAR
