BEGIN:VCALENDAR
PRODID:NingEventWidget-v1
VERSION:2.0
METHOD:PUBLISH
BEGIN:VTIMEZONE
TZID:America/Chicago
X-LIC-LOCATION:America/Chicago
BEGIN:DAYLIGHT
TZOFFSETFROM:-0600
TZOFFSETTO:-0500
TZNAME:CDT
DTSTART:19700308T020000
RRULE:FREQ=YEARLY;BYMONTH=3;BYDAY=2SU
END:DAYLIGHT
BEGIN:STANDARD
TZOFFSETFROM:-0500
TZOFFSETTO:-0600
TZNAME:CST
DTSTART:19701101T020000
RRULE:FREQ=YEARLY;BYMONTH=11;BYDAY=1SU
END:STANDARD
END:VTIMEZONE
BEGIN:VEVENT
UID:3181080:Event:1228755
DTSTAMP:20260425T111432Z
SUMMARY:Helsinki Knife Show
DESCRIPTION:The sixth international HELSINKI KNIFE SHOWwill be held i
 n the Carl-Gustaf cabinet of the Hotel Marski, in Helsinki Finland fr
 om 9th to 10th of January 2015.\nHelsinki Knife Show is an internation
 al custom knife sales-exhibition organised by the Scandinavian Knifem
 akers Guild.\nThe Show is open Friday 9th of January 2015 from 2 to 3 
 pm for VIP Guest only. For general public from 3 to 6 pm and on Saturd
 ay 10th of January from 10 am to 5 pm.\nOne day Ticket 10 EURTwo days 
 Ticket 12 EUR Free entrance for children under 12 years, in company w
 ith parent.\nMore info; info(at)helsinkiknifeshow.com\nHelsinki Knife 
 Show is in co-operation with Finnish knife association\n\nFor more inf
 ormation visit https://iknifecollector.com/events/helsinki-knife-show-
 1
DTSTART;TZID=America/Chicago:20150109T000000
DTEND;TZID=America/Chicago:20150110T235900
CATEGORIES:international, knife, show
LOCATION:Carl-Gustaf cabinet of the Hotel Marski, in Helsinki
WEBSITE:http://www.helsinkiknifeshow.com/
URL:http://www.helsinkiknifeshow.com/
CONTACT:
ORGANIZER;CN="Jan Carter":https://iknifecollector.com/profile/JanCarte
 r
ATTACH;FMTTYPE="image/jpeg":
ATTENDEE;ROLE=REQ-PARTICIPANT;PARTSTAT=ACCEPTED;RSVP=TRUE;CN="Jan Cart
 er":https://iknifecollector.com/profile/JanCarter
END:VEVENT
END:VCALENDAR
