BEGIN:VCALENDAR
PRODID:NingEventWidget-v1
VERSION:2.0
METHOD:PUBLISH
BEGIN:VTIMEZONE
TZID:America/Chicago
X-LIC-LOCATION:America/Chicago
BEGIN:DAYLIGHT
TZOFFSETFROM:-0600
TZOFFSETTO:-0500
TZNAME:CDT
DTSTART:19700308T020000
RRULE:FREQ=YEARLY;BYMONTH=3;BYDAY=2SU
END:DAYLIGHT
BEGIN:STANDARD
TZOFFSETFROM:-0500
TZOFFSETTO:-0600
TZNAME:CST
DTSTART:19701101T020000
RRULE:FREQ=YEARLY;BYMONTH=11;BYDAY=1SU
END:STANDARD
END:VTIMEZONE
BEGIN:VEVENT
UID:3181080:Event:1452900
DTSTAMP:20260424T005324Z
SUMMARY:Helsinki Knife Show
DESCRIPTION:The eighth international HELSINKI KNIFE SHOW will be hel
 d in Helsinki Hotel Scandic Park on the 6th and 7th january 2017. (Pl
 ace the same as in 2016, a visit to the state Duncker street side of t
 he attached maps.)   \nThe event is open to VIP guests on Friday, 6.
 1. klo.14.00-15.00 and the general public at. 15.00 -18.00 Saturday 
 and 7.1. klo.10.00-17.00.\nThe event will once again accompanied by a
 n exhibition of historical blade weapons \"centenary knives; knives by
  Finland's independence\"\nOne-day wristband 10 EUR  Two-day wristba
 nd 12 EUR  Children under 12 years accompanied by an adult free of c
 harge. For more information about the event: info (at) helsinkiknifes
 how.com\nFor more information about the event: info (at) helsinkiknife
 show.com\nFor more information about Helsinki.\nHelsinki Knife Show o
 n Facebook .\n\nFor more information visit https://iknifecollector.co
 m/events/helsinki-knife-show-2
DTSTART;TZID=America/Chicago:20170106T000000
DTEND;TZID=America/Chicago:20170107T235900
CATEGORIES:knife, show
LOCATION:SCANDIC PARK HELSINKI HOTEL
WEBSITE:http://www.helsinkiknifeshow.com/
URL:http://www.helsinkiknifeshow.com/
CONTACT:
ORGANIZER;CN="Jan Carter":https://iknifecollector.com/profile/JanCarte
 r
ATTACH;FMTTYPE="image/jpeg":
END:VEVENT
END:VCALENDAR
