BEGIN:VCALENDAR
PRODID:NingEventWidget-v1
VERSION:2.0
METHOD:PUBLISH
BEGIN:VTIMEZONE
TZID:America/Chicago
X-LIC-LOCATION:America/Chicago
BEGIN:DAYLIGHT
TZOFFSETFROM:-0600
TZOFFSETTO:-0500
TZNAME:CDT
DTSTART:19700308T020000
RRULE:FREQ=YEARLY;BYMONTH=3;BYDAY=2SU
END:DAYLIGHT
BEGIN:STANDARD
TZOFFSETFROM:-0500
TZOFFSETTO:-0600
TZNAME:CST
DTSTART:19701101T020000
RRULE:FREQ=YEARLY;BYMONTH=11;BYDAY=1SU
END:STANDARD
END:VTIMEZONE
BEGIN:VEVENT
UID:3181080:Event:492664
DTSTAMP:20260424T215929Z
SUMMARY:Helsinki Knife Show
DESCRIPTION:tothird international HELSINKI KNIFE SHOWwill be held in t
 he Carl-Gustaf cabinet of the Hotel Marski, in Helsinki Finland from 6
 th to 7th of January 2012.Helsinki Knife Show is an international cust
 om knife sales-exhibition organised by the Scandinavian Knifemakers Gu
 ild.The show will be open on Friday 6th of January 2012 from 3 pm to 6
  pm and on Saturday 7th of January from 10 am to 5 pmEntrance fee;One 
 day ticket 10 €Two day ticket 15 €More info; info(at)helsinkiknife
 show.comHelsinki Knife Show is in co-operation with Finnish knife asso
 ciation\n \nSaturday 7th of January from 10 am to 5 pmEntrance fee;On
 e day ticket 10 €Two day ticket 15 €More info; info(at)helsinkikni
 feshow.comHelsinki Knife Show is in co-operation with Finnish knife as
 sociation\n\nFor more information visit https://iknifecollector.com/ev
 ents/helsinki-knife-show
DTSTART;TZID=America/Chicago:20120106T000000
DTEND;TZID=America/Chicago:20120107T235900
CATEGORIES:knife, show
LOCATION:Helsinki Finland
WEBSITE:http://www.helsinkiknifeshow.com/
URL:http://www.helsinkiknifeshow.com/
CONTACT:
ORGANIZER:
ATTACH;FMTTYPE="image/jpeg":http://storage.ning.com/topology/rest/1.0/
 file/get/2831306877?profile=original
ATTENDEE;ROLE=REQ-PARTICIPANT;PARTSTAT=ACCEPTED;RSVP=TRUE;CN="Jan Cart
 er":https://iknifecollector.com/profile/JanCarter
END:VEVENT
END:VCALENDAR
