BEGIN:VCALENDAR
PRODID:NingEventWidget-v1
VERSION:2.0
METHOD:PUBLISH
BEGIN:VTIMEZONE
TZID:America/Chicago
X-LIC-LOCATION:America/Chicago
BEGIN:DAYLIGHT
TZOFFSETFROM:-0600
TZOFFSETTO:-0500
TZNAME:CDT
DTSTART:19700308T020000
RRULE:FREQ=YEARLY;BYMONTH=3;BYDAY=2SU
END:DAYLIGHT
BEGIN:STANDARD
TZOFFSETFROM:-0500
TZOFFSETTO:-0600
TZNAME:CST
DTSTART:19701101T020000
RRULE:FREQ=YEARLY;BYMONTH=11;BYDAY=1SU
END:STANDARD
END:VTIMEZONE
BEGIN:VEVENT
UID:3181080:Event:731837
DTSTAMP:20260424T050511Z
SUMMARY:High Caliber Gun and Knife Show in Houston, TX
DESCRIPTION:PUBLIC INVITEDSomething for EveryoneBuy - Sell - Trade - B
 rowseBring your Gun and Trade for the Gun You've Always Wanted, and Se
 e the Hundreds of displays of New and Old Guns, Ammo,Gun Parts, Books,
  Knives, Knife Sharpening, Coins, Camouflage and Related Items atDisco
 unt Prices.Under 21 Admitted With Parents OnlyLaw Enforcement Officer
 s in Uniform Admitted Free\n\nFor more information visit https://iknif
 ecollector.com/events/high-caliber-gun-and-knife-show-in-houston-tx-2
DTSTART;TZID=America/Chicago:20121201T090000
DTEND;TZID=America/Chicago:20121202T160000
CATEGORIES:gun, and, knife, show
LOCATION:George R. Brown convention center
WEBSITE:http://www.texasgunshows.com/
URL:http://www.texasgunshows.com/
CONTACT:(713) 853-8000
ORGANIZER;CN="Bruce Piehl":https://iknifecollector.com/profile/brucepi
 ehl
ATTACH;FMTTYPE="image/jpeg":http://storage.ning.com/topology/rest/1.0/
 file/get/2831321128?profile=original
ATTENDEE;ROLE=REQ-PARTICIPANT;PARTSTAT=ACCEPTED;RSVP=TRUE;CN="Bruce Pi
 ehl":https://iknifecollector.com/profile/brucepiehl
END:VEVENT
END:VCALENDAR
