BEGIN:VCALENDAR
PRODID:NingEventWidget-v1
VERSION:2.0
METHOD:PUBLISH
BEGIN:VTIMEZONE
TZID:America/Chicago
X-LIC-LOCATION:America/Chicago
BEGIN:DAYLIGHT
TZOFFSETFROM:-0600
TZOFFSETTO:-0500
TZNAME:CDT
DTSTART:19700308T020000
RRULE:FREQ=YEARLY;BYMONTH=3;BYDAY=2SU
END:DAYLIGHT
BEGIN:STANDARD
TZOFFSETFROM:-0500
TZOFFSETTO:-0600
TZNAME:CST
DTSTART:19701101T020000
RRULE:FREQ=YEARLY;BYMONTH=11;BYDAY=1SU
END:STANDARD
END:VTIMEZONE
BEGIN:VEVENT
UID:3181080:Event:170213
DTSTAMP:20260424T122833Z
SUMMARY:High Caliber Gun & Knife Show in Houston Tx.
DESCRIPTION:PUBLIC INVITED\nSomething for Everyone\nBuy - Sell - Trade
  - Browse\n\nBring your Gun and Trade for the Gun You've Always Wanted
 , and See the Hundreds of displays of New and Old Guns, Ammo,Gun Parts
 , Books, Knives, Knife Sharpening, Coins, Camouflage and Related Items
  at Discount Prices.\n\nFor more information visit https://iknifecolle
 ctor.com/events/high-caliber-gun-knife-show-366
DTSTART;TZID=America/Chicago:20101204T090000
DTEND;TZID=America/Chicago:20101205T170000
CATEGORIES:gun, and, knife, show
LOCATION:George R. Brown convention center
WEBSITE:http://highcalibergunshow.com/
URL:http://highcalibergunshow.com/
CONTACT:(713) 853-8000
ORGANIZER:Bruce Piehl/Doc's Knife Works
ATTACH;FMTTYPE="image/jpeg":http://storage.ning.com/topology/rest/1.0/
 file/get/2831268846?profile=original
ATTENDEE;ROLE=REQ-PARTICIPANT;PARTSTAT=ACCEPTED;RSVP=TRUE;CN="Bruce Pi
 ehl":https://iknifecollector.com/profile/brucepiehl
END:VEVENT
END:VCALENDAR
