BEGIN:VCALENDAR
PRODID:NingEventWidget-v1
VERSION:2.0
METHOD:PUBLISH
BEGIN:VTIMEZONE
TZID:America/Chicago
X-LIC-LOCATION:America/Chicago
BEGIN:DAYLIGHT
TZOFFSETFROM:-0600
TZOFFSETTO:-0500
TZNAME:CDT
DTSTART:19700308T020000
RRULE:FREQ=YEARLY;BYMONTH=3;BYDAY=2SU
END:DAYLIGHT
BEGIN:STANDARD
TZOFFSETFROM:-0500
TZOFFSETTO:-0600
TZNAME:CST
DTSTART:19701101T020000
RRULE:FREQ=YEARLY;BYMONTH=11;BYDAY=1SU
END:STANDARD
END:VTIMEZONE
BEGIN:VEVENT
UID:3181080:Event:134658
DTSTAMP:20260423T214056Z
SUMMARY:Houston Gun Collectors Gun & Knife Show - Texas Largest Show
DESCRIPTION:Buy, Sale or Trade Open to the public. 1600 tables of FUN.
 \n\nFor more information visit https://iknifecollector.com/events/hous
 ton-gun-collectors-gun
DTSTART;TZID=America/Chicago:20100918T090000
DTEND;TZID=America/Chicago:20100919T170000
CATEGORIES:gun, "&", knife, show
LOCATION:Reliant Park,  Hall A
WEBSITE:http://www.reliantpark.com/
URL:http://www.reliantpark.com/
CONTACT:(832) 667-1400
ORGANIZER:Bruce Piehl/Doc's Knife Works
ATTACH;FMTTYPE="image/jpeg":http://storage.ning.com/topology/rest/1.0/
 file/get/2831251597?profile=original
ATTENDEE;ROLE=REQ-PARTICIPANT;PARTSTAT=ACCEPTED;RSVP=TRUE;CN="Bruce Pi
 ehl":https://iknifecollector.com/profile/brucepiehl
END:VEVENT
END:VCALENDAR
