BEGIN:VCALENDAR
PRODID:NingEventWidget-v1
VERSION:2.0
METHOD:PUBLISH
BEGIN:VTIMEZONE
TZID:America/Chicago
X-LIC-LOCATION:America/Chicago
BEGIN:DAYLIGHT
TZOFFSETFROM:-0600
TZOFFSETTO:-0500
TZNAME:CDT
DTSTART:19700308T020000
RRULE:FREQ=YEARLY;BYMONTH=3;BYDAY=2SU
END:DAYLIGHT
BEGIN:STANDARD
TZOFFSETFROM:-0500
TZOFFSETTO:-0600
TZNAME:CST
DTSTART:19701101T020000
RRULE:FREQ=YEARLY;BYMONTH=11;BYDAY=1SU
END:STANDARD
END:VTIMEZONE
BEGIN:VEVENT
UID:3181080:Event:1426346
DTSTAMP:20260424T083826Z
SUMMARY:Indiana Knife Collector's Festival
DESCRIPTION:UAW Union Hall 663 2840 S. Madison Ave.Anderson, Indiana\
 nTables $25.00 each $2.00 AdmissionDisplays -Raffles - Door Prizes NO
  GUNS OR ALCOHOL ALLOWED IN BLDG.\n\nFor more information visit https:
 //iknifecollector.com/events/indiana-knife-collector-s-festival
DTSTART;TZID=America/Chicago:20160723T000000
DTEND;TZID=America/Chicago:20160723T235900
CATEGORIES:knife, show
LOCATION:UAW Union Hall 663
WEBSITE:
URL:
CONTACT:
ORGANIZER;CN="Jan Carter":https://iknifecollector.com/profile/JanCarte
 r
ATTACH;FMTTYPE="image/jpeg":
ATTENDEE;ROLE=REQ-PARTICIPANT;PARTSTAT=TENTATIVE;RSVP=TRUE;CN="Andy La
 rrison":https://iknifecollector.com/profile/AndyLarrison
END:VEVENT
END:VCALENDAR
