BEGIN:VCALENDAR
PRODID:NingEventWidget-v1
VERSION:2.0
METHOD:PUBLISH
BEGIN:VTIMEZONE
TZID:America/Chicago
X-LIC-LOCATION:America/Chicago
BEGIN:DAYLIGHT
TZOFFSETFROM:-0600
TZOFFSETTO:-0500
TZNAME:CDT
DTSTART:19700308T020000
RRULE:FREQ=YEARLY;BYMONTH=3;BYDAY=2SU
END:DAYLIGHT
BEGIN:STANDARD
TZOFFSETFROM:-0500
TZOFFSETTO:-0600
TZNAME:CST
DTSTART:19701101T020000
RRULE:FREQ=YEARLY;BYMONTH=11;BYDAY=1SU
END:STANDARD
END:VTIMEZONE
BEGIN:VEVENT
UID:3181080:Event:966362
DTSTAMP:20260424T221143Z
SUMMARY:Invitational Knifemakers Show
DESCRIPTION:dmissionDaily* $15.003-Day Pass* $35.00Honored Guests — 
 All Days Including Set Up Day $90.00* Daily and 3-day passes are not a
 vailable for online ticket purchase\nLas Vegas Antique Arms Show™Int
 ernational Sporting Arms Show™Invitational Knifemakers Show™\n\n\n
 For more information visit https://iknifecollector.com/events/invitati
 onal-knifemakers-show-1
DTSTART;TZID=America/Chicago:20140117T000000
DTEND;TZID=America/Chicago:20140119T235900
CATEGORIES:multiple, knife, shows
LOCATION:Riviera Hotel & Casino — Las Vegas, Nevada
WEBSITE:http://www.bladesmithnews.com/vegas-invitational-knifemakers-s
 how-jan-18-20th/
URL:http://www.bladesmithnews.com/vegas-invitational-knifemakers-show-
 jan-18-20th/
CONTACT:
ORGANIZER;CN="Jan Carter":https://iknifecollector.com/profile/JanCarte
 r
ATTACH;FMTTYPE="image/jpeg":
ATTENDEE;ROLE=REQ-PARTICIPANT;PARTSTAT=ACCEPTED;RSVP=TRUE;CN="Gary See
 ly":https://iknifecollector.com/profile/GarySeely
ATTENDEE;ROLE=REQ-PARTICIPANT;PARTSTAT=ACCEPTED;RSVP=TRUE;CN="Jan Cart
 er":https://iknifecollector.com/profile/JanCarter
END:VEVENT
END:VCALENDAR
