BEGIN:VCALENDAR
PRODID:NingEventWidget-v1
VERSION:2.0
METHOD:PUBLISH
BEGIN:VTIMEZONE
TZID:America/Chicago
X-LIC-LOCATION:America/Chicago
BEGIN:DAYLIGHT
TZOFFSETFROM:-0600
TZOFFSETTO:-0500
TZNAME:CDT
DTSTART:19700308T020000
RRULE:FREQ=YEARLY;BYMONTH=3;BYDAY=2SU
END:DAYLIGHT
BEGIN:STANDARD
TZOFFSETFROM:-0500
TZOFFSETTO:-0600
TZNAME:CST
DTSTART:19701101T020000
RRULE:FREQ=YEARLY;BYMONTH=11;BYDAY=1SU
END:STANDARD
END:VTIMEZONE
BEGIN:VEVENT
UID:3181080:Event:714596
DTSTAMP:20260423T183241Z
SUMMARY:Invitational Knifemakers Show
DESCRIPTION:Antique Arm Show is to be held from 18 to 20 Jan 2013. Uni
 que in the industry, the show attracts collectors, interested legislat
 ors, members of many governmental agencies, Hollywood personalities, c
 ollector organizations and dealers from around the world. It is a good
  time for the exhibitors to sell their products and at the same time i
 t is good for the visitors as well. Exhibitors can increase their sale
 s and can meet their target audience at one place. The event is the pe
 rfect place for the arms. It has proved to be high ends of innovations
 . It will be the best trade fair for the professionals linked to this 
 industry.\n\nFor more information visit https://iknifecollector.com/ev
 ents/invitational-knifemakers-show
DTSTART;TZID=America/Chicago:20130118T000000
DTEND;TZID=America/Chicago:20130120T235900
CATEGORIES:knife, show
LOCATION:Las Vegas
WEBSITE:http://antiquearmsshow.com/
URL:http://antiquearmsshow.com/
CONTACT:
ORGANIZER;CN="Jan Carter":https://iknifecollector.com/profile/JanCarte
 r
ATTACH;FMTTYPE="image/jpeg":
ATTENDEE;ROLE=REQ-PARTICIPANT;PARTSTAT=ACCEPTED;RSVP=TRUE;CN="Jan Cart
 er":https://iknifecollector.com/profile/JanCarter
END:VEVENT
END:VCALENDAR
