BEGIN:VCALENDAR
PRODID:NingEventWidget-v1
VERSION:2.0
METHOD:PUBLISH
BEGIN:VTIMEZONE
TZID:America/Chicago
X-LIC-LOCATION:America/Chicago
BEGIN:DAYLIGHT
TZOFFSETFROM:-0600
TZOFFSETTO:-0500
TZNAME:CDT
DTSTART:19700308T020000
RRULE:FREQ=YEARLY;BYMONTH=3;BYDAY=2SU
END:DAYLIGHT
BEGIN:STANDARD
TZOFFSETFROM:-0500
TZOFFSETTO:-0600
TZNAME:CST
DTSTART:19701101T020000
RRULE:FREQ=YEARLY;BYMONTH=11;BYDAY=1SU
END:STANDARD
END:VTIMEZONE
BEGIN:VEVENT
UID:3181080:Event:1525823
DTSTAMP:20260422T031031Z
SUMMARY:IWA Outdoor Classics **GERMANY
DESCRIPTION:Enjoy more innovations, more expertise and more inspiratio
 n to make your business a success. The most important international tr
 ade fair for hunting and shooting sports, outdoor activities and secur
 ity presents more than 1,500 exhibitors and experts.\n\nFor more infor
 mation visit https://iknifecollector.com/events/iwa-outdoor-classics-g
 ermany
DTSTART;TZID=America/Chicago:20180309T180000
DTEND;TZID=America/Chicago:20180312T190000
CATEGORIES:international, trade, fair, for, hunting, and, shooting, sp
 orts
LOCATION:Exhibition Centre
WEBSITE:https://www.iwa.info/en/ready
URL:https://www.iwa.info/en/ready
CONTACT:
ORGANIZER:
ATTACH;FMTTYPE="image/jpeg":
END:VEVENT
END:VCALENDAR
