BEGIN:VCALENDAR
PRODID:NingEventWidget-v1
VERSION:2.0
METHOD:PUBLISH
BEGIN:VTIMEZONE
TZID:America/Chicago
X-LIC-LOCATION:America/Chicago
BEGIN:DAYLIGHT
TZOFFSETFROM:-0600
TZOFFSETTO:-0500
TZNAME:CDT
DTSTART:19700308T020000
RRULE:FREQ=YEARLY;BYMONTH=3;BYDAY=2SU
END:DAYLIGHT
BEGIN:STANDARD
TZOFFSETFROM:-0500
TZOFFSETTO:-0600
TZNAME:CST
DTSTART:19701101T020000
RRULE:FREQ=YEARLY;BYMONTH=11;BYDAY=1SU
END:STANDARD
END:VTIMEZONE
BEGIN:VEVENT
UID:3181080:Event:1452893
DTSTAMP:20260423T163605Z
SUMMARY:IWA OutdoorClassics (Germany)
DESCRIPTION:the world-leading trade fair for hunting, shooting sports,
  equipment for outdoor activities and for civilian and official securi
 ty applications.\nThe annual highlight for the international specialis
 t trade from 3 - 6 March 2017 in the exhibition center Nuremberg\nWhet
 her hunting accessories or personal protection: The world-leading trad
 e fair IWA OutdoorClassics shows high-quality guns and outdoor product
 s from international suppliers. Experience light materials, great comf
 ort and improved functions. The equipment for civilian and official se
 lf-defense is also the centre of attraction.\nThe best-known manufactu
 rers and traders meet here: The trade fair for hunting, shooting sport
 s, outdoor activities and security starts on 3 March 2017 in Nuremberg
 .\n\nFor more information visit https://iknifecollector.com/events/iwa
 -outdoorclassics-germany
DTSTART;TZID=America/Chicago:20170303T000000
DTEND;TZID=America/Chicago:20170306T235900
CATEGORIES:trade, fair
LOCATION:exhibition center Nuremberg
WEBSITE:https://www.iwa.info/en
URL:https://www.iwa.info/en
CONTACT:
ORGANIZER;CN="Jan Carter":https://iknifecollector.com/profile/JanCarte
 r
ATTACH;FMTTYPE="image/jpeg":
END:VEVENT
END:VCALENDAR
