BEGIN:VCALENDAR
PRODID:NingEventWidget-v1
VERSION:2.0
METHOD:PUBLISH
BEGIN:VTIMEZONE
TZID:America/Chicago
X-LIC-LOCATION:America/Chicago
BEGIN:DAYLIGHT
TZOFFSETFROM:-0600
TZOFFSETTO:-0500
TZNAME:CDT
DTSTART:19700308T020000
RRULE:FREQ=YEARLY;BYMONTH=3;BYDAY=2SU
END:DAYLIGHT
BEGIN:STANDARD
TZOFFSETFROM:-0500
TZOFFSETTO:-0600
TZNAME:CST
DTSTART:19701101T020000
RRULE:FREQ=YEARLY;BYMONTH=11;BYDAY=1SU
END:STANDARD
END:VTIMEZONE
BEGIN:VEVENT
UID:3181080:Event:1000638
DTSTAMP:20260424T155605Z
SUMMARY:KAI USA WAREHOUSE KERSHAW SALE!
DESCRIPTION:The annual Kai USA Warehouse Sale has been a holiday shopp
 ing tradition for Kershaw fans in the Portland, Oregon area for many y
 ears. It's the one weekend each year that we throw open the doors of o
 ur warehouse and invite everyone to get in on some of the best deals o
 f the year. There are savings of up to 75% off on a great selection of
  Kershaw, Shun, and even some Zero Tolerance \"gifts with a point.\"\n
 How can we sell our quality products at a discount like that? Well, he
 re's the story behind the Warehouse Sale:\n\nFor more information visi
 t https://iknifecollector.com/events/kai-usa-warehouse-kershaw-sale
DTSTART;TZID=America/Chicago:20131130T090000
DTEND;TZID=America/Chicago:20131201T180000
CATEGORIES:kershaw, annual, sale
LOCATION:Portland Oregon
WEBSITE:http://kershaw.kaiusaltd.com/blog/get-ready-for-the-kai-usa-wa
 rehouse-sale
URL:http://kershaw.kaiusaltd.com/blog/get-ready-for-the-kai-usa-wareho
 use-sale
CONTACT:
ORGANIZER;CN="Jan Carter":https://iknifecollector.com/profile/JanCarte
 r
ATTACH;FMTTYPE="image/jpeg":
ATTENDEE;ROLE=REQ-PARTICIPANT;PARTSTAT=ACCEPTED;RSVP=TRUE;CN="Jan Cart
 er":https://iknifecollector.com/profile/JanCarter
END:VEVENT
END:VCALENDAR
