BEGIN:VCALENDAR
PRODID:NingEventWidget-v1
VERSION:2.0
METHOD:PUBLISH
BEGIN:VTIMEZONE
TZID:America/Chicago
X-LIC-LOCATION:America/Chicago
BEGIN:DAYLIGHT
TZOFFSETFROM:-0600
TZOFFSETTO:-0500
TZNAME:CDT
DTSTART:19700308T020000
RRULE:FREQ=YEARLY;BYMONTH=3;BYDAY=2SU
END:DAYLIGHT
BEGIN:STANDARD
TZOFFSETFROM:-0500
TZOFFSETTO:-0600
TZNAME:CST
DTSTART:19701101T020000
RRULE:FREQ=YEARLY;BYMONTH=11;BYDAY=1SU
END:STANDARD
END:VTIMEZONE
BEGIN:VEVENT
UID:3181080:Event:1532459
DTSTAMP:20260422T230932Z
SUMMARY:Knife Addicts SE Missouri Knife Show
DESCRIPTION:\n\nFor more information visit https://iknifecollector.com
 /events/knife-addicts-se-missouri-knife-show
DTSTART;TZID=America/Chicago:20180714T000000
DTEND;TZID=America/Chicago:20180715T235900
CATEGORIES:knife, show
LOCATION:3210 Pintail Ridge Rd. Bonne Terre, MO. 63628
WEBSITE:https://www.facebook.com/photo.php?fbid=10211785285213104&amp;
 set=a.4239948722480.2144293.1398415631&amp;type=3&amp;theater
URL:https://www.facebook.com/photo.php?fbid=10211785285213104&amp;set=
 a.4239948722480.2144293.1398415631&amp;type=3&amp;theater
CONTACT:
ORGANIZER:Dan Fitzgerald
ATTACH;FMTTYPE="image/jpeg":
ATTENDEE;ROLE=REQ-PARTICIPANT;PARTSTAT=ACCEPTED;RSVP=TRUE;CN="Dan Fitz
 gerald":https://iknifecollector.com/profile/DanFitzgerald
END:VEVENT
END:VCALENDAR
