BEGIN:VCALENDAR
PRODID:NingEventWidget-v1
VERSION:2.0
METHOD:PUBLISH
BEGIN:VTIMEZONE
TZID:America/Chicago
X-LIC-LOCATION:America/Chicago
BEGIN:DAYLIGHT
TZOFFSETFROM:-0600
TZOFFSETTO:-0500
TZNAME:CDT
DTSTART:19700308T020000
RRULE:FREQ=YEARLY;BYMONTH=3;BYDAY=2SU
END:DAYLIGHT
BEGIN:STANDARD
TZOFFSETFROM:-0500
TZOFFSETTO:-0600
TZNAME:CST
DTSTART:19701101T020000
RRULE:FREQ=YEARLY;BYMONTH=11;BYDAY=1SU
END:STANDARD
END:VTIMEZONE
BEGIN:VEVENT
UID:3181080:Event:1193212
DTSTAMP:20260425T224430Z
SUMMARY:Knife Days
DESCRIPTION:Show Hours\n\nThursday 12pm-6pm\nFriday 9am-6pm\nSaturday 
 9am-5pm\n\nFor more information visit https://iknifecollector.com/even
 ts/knife-days-1
DTSTART;TZID=America/Chicago:20141023T000000
DTEND;TZID=America/Chicago:20141025T235900
CATEGORIES:knife, show
LOCATION:Roberts Center
WEBSITE:
URL:
CONTACT:
ORGANIZER:Ryan Daniels
ATTACH;FMTTYPE="image/jpeg":
ATTENDEE;ROLE=REQ-PARTICIPANT;PARTSTAT=ACCEPTED;RSVP=TRUE;CN="Ken Spie
 lvogel":https://iknifecollector.com/profile/KenSpielvogel
ATTENDEE;ROLE=REQ-PARTICIPANT;PARTSTAT=ACCEPTED;RSVP=TRUE;CN="Gina Sar
 gent Smith":https://iknifecollector.com/profile/GinaSargentSmith
ATTENDEE;ROLE=REQ-PARTICIPANT;PARTSTAT=ACCEPTED;RSVP=TRUE;CN="Ken Mund
 henk":https://iknifecollector.com/profile/KenMundhenk
END:VEVENT
END:VCALENDAR
