BEGIN:VCALENDAR
PRODID:NingEventWidget-v1
VERSION:2.0
METHOD:PUBLISH
BEGIN:VTIMEZONE
TZID:America/Chicago
X-LIC-LOCATION:America/Chicago
BEGIN:DAYLIGHT
TZOFFSETFROM:-0600
TZOFFSETTO:-0500
TZNAME:CDT
DTSTART:19700308T020000
RRULE:FREQ=YEARLY;BYMONTH=3;BYDAY=2SU
END:DAYLIGHT
BEGIN:STANDARD
TZOFFSETFROM:-0500
TZOFFSETTO:-0600
TZNAME:CST
DTSTART:19701101T020000
RRULE:FREQ=YEARLY;BYMONTH=11;BYDAY=1SU
END:STANDARD
END:VTIMEZONE
BEGIN:VEVENT
UID:3181080:Event:984330
DTSTAMP:20260424T123109Z
SUMMARY:knife exhibit at the Historic Arkansas Museum
DESCRIPTION:A Sure Defense: The Bowie Knife in America\"\n\nFor more i
 nformation visit https://iknifecollector.com/events/knife-exhibit-at-t
 he-historic-arkansas-museum
DTSTART;TZID=America/Chicago:20131213T000000
DTEND;TZID=America/Chicago:20140627T235900
CATEGORIES:"world's", largest, bowie, knife, exhibit
LOCATION:Historic Arkansas Museum
WEBSITE:http://www.historicarkansas.org/whatsnew/newsDetail.aspx?id=27
 3
URL:http://www.historicarkansas.org/whatsnew/newsDetail.aspx?id=273
CONTACT:
ORGANIZER;CN="Jan Carter":https://iknifecollector.com/profile/JanCarte
 r
ATTACH;FMTTYPE="image/jpeg":http://storage.ning.com/topology/rest/1.0/
 file/get/2831420733?profile=original
ATTENDEE;ROLE=REQ-PARTICIPANT;PARTSTAT=ACCEPTED;RSVP=TRUE;CN="Terry Ra
 y":https://iknifecollector.com/profile/TerryRay
ATTENDEE;ROLE=REQ-PARTICIPANT;PARTSTAT=ACCEPTED;RSVP=TRUE;CN="Mark Zal
 esky":https://iknifecollector.com/profile/MarkZalesky
ATTENDEE;ROLE=REQ-PARTICIPANT;PARTSTAT=ACCEPTED;RSVP=TRUE;CN=Guy:https
 ://iknifecollector.com/profile/Guy
ATTENDEE;ROLE=REQ-PARTICIPANT;PARTSTAT=ACCEPTED;RSVP=TRUE;CN="Jan Cart
 er":https://iknifecollector.com/profile/JanCarter
END:VEVENT
END:VCALENDAR
