BEGIN:VCALENDAR
PRODID:NingEventWidget-v1
VERSION:2.0
METHOD:PUBLISH
BEGIN:VTIMEZONE
TZID:America/Chicago
X-LIC-LOCATION:America/Chicago
BEGIN:DAYLIGHT
TZOFFSETFROM:-0600
TZOFFSETTO:-0500
TZNAME:CDT
DTSTART:19700308T020000
RRULE:FREQ=YEARLY;BYMONTH=3;BYDAY=2SU
END:DAYLIGHT
BEGIN:STANDARD
TZOFFSETFROM:-0500
TZOFFSETTO:-0600
TZNAME:CST
DTSTART:19701101T020000
RRULE:FREQ=YEARLY;BYMONTH=11;BYDAY=1SU
END:STANDARD
END:VTIMEZONE
BEGIN:VEVENT
UID:3181080:Event:1400023
DTSTAMP:20260424T083541Z
SUMMARY:Knife Roadshow
DESCRIPTION:This is Bruce Voyles New show\n will be in the Smoky Moun
 tainConvention CenterPIGEON FORGE, TN\nNext door to the Cracker Barrel
 l at the northern end of Pigeon Forge!\n\nFor more information visit h
 ttps://iknifecollector.com/events/knife-roadshow-1
DTSTART;TZID=America/Chicago:20160513T000000
DTEND;TZID=America/Chicago:20160515T235900
CATEGORIES:knife, show
LOCATION:Smoky Mountain Convention Center PIGEON FORGE, TN
WEBSITE:http://www.jbrucevoyles.com/
URL:http://www.jbrucevoyles.com/
CONTACT:
ORGANIZER;CN="Jan Carter":https://iknifecollector.com/profile/JanCarte
 r
ATTACH;FMTTYPE="image/jpeg":
ATTENDEE;ROLE=REQ-PARTICIPANT;PARTSTAT=ACCEPTED;RSVP=TRUE;CN="Kevin Ca
 sey":https://iknifecollector.com/profile/KevinCasey
ATTENDEE;ROLE=REQ-PARTICIPANT;PARTSTAT=ACCEPTED;RSVP=TRUE;CN=jeff:http
 s://iknifecollector.com/profile/jeff599
ATTENDEE;ROLE=REQ-PARTICIPANT;PARTSTAT=ACCEPTED;RSVP=TRUE;CN="Charles 
 Reed":https://iknifecollector.com/profile/CharlesReed
ATTENDEE;ROLE=REQ-PARTICIPANT;PARTSTAT=ACCEPTED;RSVP=TRUE;CN="Mark Zal
 esky":https://iknifecollector.com/profile/MarkZalesky
ATTENDEE;ROLE=REQ-PARTICIPANT;PARTSTAT=ACCEPTED;RSVP=TRUE;CN="Gina Sar
 gent Smith":https://iknifecollector.com/profile/GinaSargentSmith
ATTENDEE;ROLE=REQ-PARTICIPANT;PARTSTAT=ACCEPTED;RSVP=TRUE;CN="Jan Cart
 er":https://iknifecollector.com/profile/JanCarter
ATTENDEE;ROLE=REQ-PARTICIPANT;PARTSTAT=TENTATIVE;RSVP=TRUE;CN="J.J. Sm
 ith III":https://iknifecollector.com/profile/JohnJSmithIII
END:VEVENT
END:VCALENDAR
