BEGIN:VCALENDAR
PRODID:NingEventWidget-v1
VERSION:2.0
METHOD:PUBLISH
BEGIN:VTIMEZONE
TZID:America/Chicago
X-LIC-LOCATION:America/Chicago
BEGIN:DAYLIGHT
TZOFFSETFROM:-0600
TZOFFSETTO:-0500
TZNAME:CDT
DTSTART:19700308T020000
RRULE:FREQ=YEARLY;BYMONTH=3;BYDAY=2SU
END:DAYLIGHT
BEGIN:STANDARD
TZOFFSETFROM:-0500
TZOFFSETTO:-0600
TZNAME:CST
DTSTART:19701101T020000
RRULE:FREQ=YEARLY;BYMONTH=11;BYDAY=1SU
END:STANDARD
END:VTIMEZONE
BEGIN:VEVENT
UID:3181080:Event:1607512
DTSTAMP:20260421T034526Z
SUMMARY:KNIFETOBERFEST  Olde Towne Cutlery!  **GA**
DESCRIPTION:https://www.oldetownecutlery.com/wp-content/uploads/2019/0
 9/Knifetoberfest-Header-768x105.jpg 768w\" sizes=\"(max-width: 900px) 
 100vw, 900px\" />\r\nSaturday October 12th\r\n10AM to 4 PM\r\nFree BBQ
  Lunch\r\nEVERYONE WELCOME!\r\nForging and Grinding Demonstrations,\r
 \nDoor Prizes, Give-A-Ways\r\n1-833-GOT-KNIVES\r\noldetownecutlery.com
 \r\n4320 Settendown Village Rd\r\nCumming, GA 30041\n\nFor more inform
 ation visit https://iknifecollector.com/events/knifetoberfest-olde-tow
 ne-cutlery-ga
DTSTART;TZID=America/Chicago:20191012T000000
DTEND;TZID=America/Chicago:20191012T235900
CATEGORIES:knifetoberfest
LOCATION:oldetownecutlery
WEBSITE:http://oldetownecutlery.com
URL:http://oldetownecutlery.com
CONTACT:
ORGANIZER;CN="Jan Carter":https://iknifecollector.com/profile/JanCarte
 r
ATTACH;FMTTYPE="image/jpeg":
ATTENDEE;ROLE=REQ-PARTICIPANT;PARTSTAT=ACCEPTED;RSVP=TRUE;CN="Jan Cart
 er":https://iknifecollector.com/profile/JanCarter
END:VEVENT
END:VCALENDAR
